BEGIN:VCALENDAR
VERSION:2.0
PRODID:-//Construction Industry Training Network - ECPv6.15.20//NONSGML v1.0//EN
CALSCALE:GREGORIAN
METHOD:PUBLISH
X-ORIGINAL-URL:https://trainingnetwork.ca
X-WR-CALDESC:Events for Construction Industry Training Network
REFRESH-INTERVAL;VALUE=DURATION:PT1H
X-Robots-Tag:noindex
X-PUBLISHED-TTL:PT1H
BEGIN:VTIMEZONE
TZID:America/Vancouver
BEGIN:DAYLIGHT
TZOFFSETFROM:-0800
TZOFFSETTO:-0700
TZNAME:PDT
DTSTART:20170312T100000
END:DAYLIGHT
BEGIN:STANDARD
TZOFFSETFROM:-0700
TZOFFSETTO:-0800
TZNAME:PST
DTSTART:20171105T090000
END:STANDARD
BEGIN:DAYLIGHT
TZOFFSETFROM:-0800
TZOFFSETTO:-0700
TZNAME:PDT
DTSTART:20180311T100000
END:DAYLIGHT
BEGIN:STANDARD
TZOFFSETFROM:-0700
TZOFFSETTO:-0800
TZNAME:PST
DTSTART:20181104T090000
END:STANDARD
BEGIN:DAYLIGHT
TZOFFSETFROM:-0800
TZOFFSETTO:-0700
TZNAME:PDT
DTSTART:20190310T100000
END:DAYLIGHT
BEGIN:STANDARD
TZOFFSETFROM:-0700
TZOFFSETTO:-0800
TZNAME:PST
DTSTART:20191103T090000
END:STANDARD
END:VTIMEZONE
BEGIN:VEVENT
DTSTART;TZID=America/Vancouver:20180411T073000
DTEND;TZID=America/Vancouver:20180411T103000
DTSTAMP:20260425T205721
CREATED:20171212T171200Z
LAST-MODIFIED:20180928T164541Z
UID:7280-1523431800-1523442600@trainingnetwork.ca
SUMMARY:Employment Standards Act Refresher (Breakfast Session) - Burnaby
DESCRIPTION:The Employment Standards Act sets the rules for employment practices in your office and in the field. Your current work rules may fall short of your statutory obligations even though they are well accepted by your staff. You usually find out you are not in compliance too late and are faced with months of back pay owed. This two-hour seminar will give you a review of Employment Standards Act requirements that are particularly relevant to construction industry employers\, including: \n\n\nEmployment contracts\nWho is a “manager”\nHours of work and overtime\nAveraging agreements for hours of work\nTermination of employment\nVacation and statutory holidays\nIndependent contractors vs. employees\nImpact of the common law\n\nPresenter: Craig Munroe is a partner at Pulver Crawford Munroe LLP. \nCraig represents and advises public and private clients facing labour relations and employment issues. He provides strategic\, solution-based advice to clients facing complicated labour relations issues. He regularly appears before various courts and tribunals including the British Columbia Labour Relations Board\, the Canada Industrial Relations Board\, grievance arbitration panels\, the British Columbia Human Rights Tribunal\, and the provincial and federal courts. \nCraig has been recognized by both his peers and his clients for excellence in his field. He is the BC Director and Vice President of the Canadian Association of counsel to Employers\, and has received the International Law Office’s “Client Choice Awards” as a result of a nomination and references from his clients. \nDisclaimer: The content of this presentation is for informational purposes only and should not be construed as legal advice. \n\n Register Now!
URL:https://trainingnetwork.ca/event/employment-standards-act-refresher-breakfast-session-burnaby/
LOCATION:Accent Inn\, 3777 Henning Drive\, Burnaby\, British Columbia\, V5C 6N5\, Canada
CATEGORIES:Business,Human Resources,Legal,Management
END:VEVENT
BEGIN:VEVENT
DTSTART;TZID=America/Vancouver:20180411T080000
DTEND;TZID=America/Vancouver:20180411T163000
DTSTAMP:20260425T205721
CREATED:20171129T200557Z
LAST-MODIFIED:20171129T200557Z
UID:7233-1523433600-1523464200@trainingnetwork.ca
SUMMARY:Leading and Managing Organizational Change - Burnaby
DESCRIPTION:Do you feel that change is ever constant and that you’re struggling to keep up? Are you looking for practical tools and approaches that you can take in managing changes that occur? Do you want to successfully lead projects that involve significant changes? \nThis seminar is focused on preparing you to manage organizational change and to lead and mentor others through change. You’ll understand the impacts change has on employees\, and what you need to do manage and address any resistance. You’ll also learn practical tips and techniques on how to get your organization or client ready for upcoming changes and impacts. Through a series of hands-on workshops\, you’ll develop a deeper understanding on what is involved in successfully adapting to and implementing change\, both from a personal and professional perspective. \nIn this seminar\, you’ll: \n\nUnderstand the impact change and transitions have on you and your employees\nLearn how to adapt to and be resilient to change\, whether the change is from a people\, process\, or technology transformation\nDevelop approaches to managing and leading change\nUse pragmatic tools to help you with anticipating and addressing resistance to change\, engaging with stakeholders\, and facilitating change\n\nInstructor: Eric Tung is Business Communications Instructor at SFU’s Beedie School of Business\, and an English Instructor at UBC’s Extended Learning\, where he teaches business and technical writing courses. Eric also designs and delivers customized workshops to engineering\, construction\, and consulting firms. \nIn addition to teaching and coaching\, Eric is a business transformation and change management consultant\, where he advises firms on large-scale organizational-wide changes. Eric’s clients range from smaller consulting firms to larger organizations such as the City of Vancouver\, District of North Vancouver\, Metro Vancouver\, BC Hydro\, TELUS\, BC Pension Corporation\, BC Safety Authority\, and Marshall Aerospace and Defence Group. \n\n Register Now!
URL:https://trainingnetwork.ca/event/leading-and-managing-organizational-change-burnaby-2/
LOCATION:Accent Inn\, 3777 Henning Drive\, Burnaby\, British Columbia\, V5C 6N5\, Canada
CATEGORIES:Business,Management
END:VEVENT
END:VCALENDAR