BEGIN:VCALENDAR
VERSION:2.0
PRODID:-//Construction Industry Training Network - ECPv6.15.20//NONSGML v1.0//EN
CALSCALE:GREGORIAN
METHOD:PUBLISH
X-ORIGINAL-URL:https://trainingnetwork.ca
X-WR-CALDESC:Events for Construction Industry Training Network
REFRESH-INTERVAL;VALUE=DURATION:PT1H
X-Robots-Tag:noindex
X-PUBLISHED-TTL:PT1H
BEGIN:VTIMEZONE
TZID:America/Vancouver
BEGIN:DAYLIGHT
TZOFFSETFROM:-0800
TZOFFSETTO:-0700
TZNAME:PDT
DTSTART:20170312T100000
END:DAYLIGHT
BEGIN:STANDARD
TZOFFSETFROM:-0700
TZOFFSETTO:-0800
TZNAME:PST
DTSTART:20171105T090000
END:STANDARD
BEGIN:DAYLIGHT
TZOFFSETFROM:-0800
TZOFFSETTO:-0700
TZNAME:PDT
DTSTART:20180311T100000
END:DAYLIGHT
BEGIN:STANDARD
TZOFFSETFROM:-0700
TZOFFSETTO:-0800
TZNAME:PST
DTSTART:20181104T090000
END:STANDARD
BEGIN:DAYLIGHT
TZOFFSETFROM:-0800
TZOFFSETTO:-0700
TZNAME:PDT
DTSTART:20190310T100000
END:DAYLIGHT
BEGIN:STANDARD
TZOFFSETFROM:-0700
TZOFFSETTO:-0800
TZNAME:PST
DTSTART:20191103T090000
END:STANDARD
END:VTIMEZONE
BEGIN:VEVENT
DTSTART;TZID=America/Vancouver:20180421T080000
DTEND;TZID=America/Vancouver:20180421T163000
DTSTAMP:20260425T172957
CREATED:20180115T192912Z
LAST-MODIFIED:20180115T192912Z
UID:7370-1524297600-1524328200@trainingnetwork.ca
SUMMARY:Project Management & Site Supervision - Penticton
DESCRIPTION:Do you know how to manage complex project that require sub-trades so they stay on time and on budget?\nLearn how to plan and schedule complex projects\, getting people to work as a team\, managing the job site to meet WHMIS and Residential Construction waste standards. \n\nManage employees and sub-trades to complete jobs on time and on budget\nRun projects safely and effectively\nGet tools to establish schedules an manage changes or delays\nLearn roles\, duties and responsibilities to become a qualified project manager/site supervisor\nAdvance your career in construction\n\nThis course meets the “Construction management and supervision” qualification requirement for New Residential Builders as set out by the Licensing and Consumer Services Branch of BC Housing.\nThis course meets the requirements for Builder Qualifications as set out by the Homeowner Protection Act. This course is approved for 30 Group A CPD points\, and 8 Group B CPD points. \n Register Now!
URL:https://trainingnetwork.ca/event/project-management-site-supervision-penticton/
LOCATION:Days Inn and Conference Centre\, 152 Riverside Drive\, Penticton\, BC\, V2A 5Y4\, Canada
CATEGORIES:Business,Construction,Management
END:VEVENT
END:VCALENDAR