BEGIN:VCALENDAR
VERSION:2.0
PRODID:-//Construction Industry Training Network - ECPv6.15.20//NONSGML v1.0//EN
CALSCALE:GREGORIAN
METHOD:PUBLISH
X-ORIGINAL-URL:https://trainingnetwork.ca
X-WR-CALDESC:Events for Construction Industry Training Network
REFRESH-INTERVAL;VALUE=DURATION:PT1H
X-Robots-Tag:noindex
X-PUBLISHED-TTL:PT1H
BEGIN:VTIMEZONE
TZID:America/Vancouver
BEGIN:DAYLIGHT
TZOFFSETFROM:-0800
TZOFFSETTO:-0700
TZNAME:PDT
DTSTART:20170312T100000
END:DAYLIGHT
BEGIN:STANDARD
TZOFFSETFROM:-0700
TZOFFSETTO:-0800
TZNAME:PST
DTSTART:20171105T090000
END:STANDARD
BEGIN:DAYLIGHT
TZOFFSETFROM:-0800
TZOFFSETTO:-0700
TZNAME:PDT
DTSTART:20180311T100000
END:DAYLIGHT
BEGIN:STANDARD
TZOFFSETFROM:-0700
TZOFFSETTO:-0800
TZNAME:PST
DTSTART:20181104T090000
END:STANDARD
BEGIN:DAYLIGHT
TZOFFSETFROM:-0800
TZOFFSETTO:-0700
TZNAME:PDT
DTSTART:20190310T100000
END:DAYLIGHT
BEGIN:STANDARD
TZOFFSETFROM:-0700
TZOFFSETTO:-0800
TZNAME:PST
DTSTART:20191103T090000
END:STANDARD
END:VTIMEZONE
BEGIN:VEVENT
DTSTART;TZID=America/Vancouver:20180507T080000
DTEND;TZID=America/Vancouver:20180508T163000
DTSTAMP:20260425T121229
CREATED:20171103T210028Z
LAST-MODIFIED:20180426T183929Z
UID:7075-1525680000-1525797000@trainingnetwork.ca
SUMMARY:Construction Law - Kamloops
DESCRIPTION:Participants will develop an understanding of contract law as it relates to construction and the various CCDC/CCA and other contracts used within the industry. Participants will also learn how the BC Builders Lien Act works and the other legal means to resolve construction disputes and avoid litigation. At the end of the course participants will be able to:\n\nUnderstand the basics of contract law –intention\, offer\, acceptance\, consideration\, capacity and legality\nBe familiar with various CCDC/CCA contracts -how and why they are used\nBe familiar with various legal terms used in contracts\nUnderstand the contract responsibilities of various parties\nUnderstand the bidding process and contractual obligations\nDefine back charges and how to avoid them\nAvoid construction disputes and claims from the site level\nWrite RFIs and Change Orders\nUnderstand the dispute resolution process – negotiation\, mediation\, arbitration\, and litigation\nUse the Builder’s Lien Act to obtain security\nUse the small claims process to collect debts\nUnderstand environmental law and how it impacts projects\nUnderstand safety law and it impacts construction companies\nUnderstand how specifications and drawings fit within the contractual hierarchy\nUnderstand the contractual relationship between contractor and sub-contractor\nCompile and submit proper extras and claims\n\nTopics to be covered:\n\nThe basic concepts of contract law\nCCA\, CCDC and other contracts\nLegal terms used in contracts\nBidding process and contractual obligations\nSpecifications\, drawings and the contractual hierarchy\nContractual relationships between contractor and sub-contractor\nCompiling and submitting proper extras and claims\nDefining back charges and how to avoid them\nAvoiding construction disputes and claims from the site level\nWriting RFIs and Change Orders\nThe dispute resolution process\nThe Builder’s Lien Act\nThe Small Claims process\nEnvironmental law\nSafety legislation and regulations\n\nTwo days (16 hours) of lessons with instructors plus an online portion involving research\, reading and answering questions (7-8 hours) that will be marked by the instructors. \nInstructors \nTim Williams MBA\, B.Econ.\, CPA\, GSC\, is the President of BGC Partners Inc. Tim has worked with numerous construction companies for over twenty years. He is a Gold Seal Certified project manager. He is an experienced and sought after trainer who has trained construction owners and managers on behalf of construction industry associations across Western Canada. \nDavid Letkemann BBA\, LLB\, is a partner at Linley Welwood. David practices in the field of civil litigation\, including personal injury\, commercial\, estate and construction law. He is an experienced litigator having participated in numerous trials in the BC Supreme Court and has also appeared before the Court of Appeal on several occasions. \n Register Now!
URL:https://trainingnetwork.ca/event/construction-law-3/
LOCATION:Comfort Inn and Suites Kamloops\, 1810 Rogers Place\, Kamloops\, British Columbia\, V1S 1T7\, Canada
CATEGORIES:Business,Construction,Legal
END:VEVENT
END:VCALENDAR