BEGIN:VCALENDAR
VERSION:2.0
PRODID:-//Construction Industry Training Network - ECPv6.15.20//NONSGML v1.0//EN
CALSCALE:GREGORIAN
METHOD:PUBLISH
X-WR-CALNAME:Construction Industry Training Network
X-ORIGINAL-URL:https://trainingnetwork.ca
X-WR-CALDESC:Events for Construction Industry Training Network
REFRESH-INTERVAL;VALUE=DURATION:PT1H
X-Robots-Tag:noindex
X-PUBLISHED-TTL:PT1H
BEGIN:VTIMEZONE
TZID:America/Vancouver
BEGIN:DAYLIGHT
TZOFFSETFROM:-0800
TZOFFSETTO:-0700
TZNAME:PDT
DTSTART:20170312T100000
END:DAYLIGHT
BEGIN:STANDARD
TZOFFSETFROM:-0700
TZOFFSETTO:-0800
TZNAME:PST
DTSTART:20171105T090000
END:STANDARD
BEGIN:DAYLIGHT
TZOFFSETFROM:-0800
TZOFFSETTO:-0700
TZNAME:PDT
DTSTART:20180311T100000
END:DAYLIGHT
BEGIN:STANDARD
TZOFFSETFROM:-0700
TZOFFSETTO:-0800
TZNAME:PST
DTSTART:20181104T090000
END:STANDARD
BEGIN:DAYLIGHT
TZOFFSETFROM:-0800
TZOFFSETTO:-0700
TZNAME:PDT
DTSTART:20190310T100000
END:DAYLIGHT
BEGIN:STANDARD
TZOFFSETFROM:-0700
TZOFFSETTO:-0800
TZNAME:PST
DTSTART:20191103T090000
END:STANDARD
END:VTIMEZONE
BEGIN:VEVENT
DTSTART;TZID=America/Vancouver:20180531T080000
DTEND;TZID=America/Vancouver:20180601T163000
DTSTAMP:20260425T085123
CREATED:20180423T180108Z
LAST-MODIFIED:20180423T180108Z
UID:7655-1527753600-1527870600@trainingnetwork.ca
SUMMARY:Project Planning and Cost Control - Burnaby
DESCRIPTION:The course is designed to provide owners\, managers\, estimators\, and field personnel with a general knowledge of the process of planning and controlling a project from beginning to end utilizing ways and means of monitoring\, saving and controlling costs. \nTopics covered: \n\nUnderstanding the impact and methodology of construction cost control.\nWays and means of minimizing and controlling costs on site.\nProject cost forecasting and accounting functions on site.\nProject planning and its purpose and effect on project cost control.\nHow to communicate & assist management re: cost methods and control.\nGain additional insight into the process of work and cost analysis.\nCost reporting systems – new technology in monitoring costs and reports.\nUnderstanding the effect improper field reporting has on cost control. Maintaining and managing documents\, material\, tools and equipment.\nUnderstanding the Contract process from bidding to project close-out.\nReview of 100 companies and their methods in controlling & saving costs.\n\nInstructor: Gerald Cree is a Gold-Seal certified construction management professional with over 30 years’ experience managing large-scale residential\, commercial\, industrial and environmental projects throughout Western Canada and the United States. His experience covers all aspects of construction management including ; design\, development\, estimation\, project planning\, tendering and procurement with additional expertise in civil\, structural\, electrical and mechanical disciplines. Throughout his career\, Gerald has demonstrated an ongoing commitment to professional development and has successfully achieved certification in many areas\, notably: Project Management Professional (PMP)\, Master of Project planning and Construction Law and is presently working towards his Leadership in Energy and Environmental Design (LEEDS) certification. \n Register Now!
URL:https://trainingnetwork.ca/event/project-planning-and-cost-control-burnaby/
LOCATION:Holiday Inn Express Metrotown\, 4405 Central Boulevard\, Burnaby\, British Columbia\, V5H 4M3\, Canada
CATEGORIES:Business,Construction,Management
END:VEVENT
END:VCALENDAR