BEGIN:VCALENDAR
VERSION:2.0
PRODID:-//Construction Industry Training Network - ECPv6.15.20//NONSGML v1.0//EN
CALSCALE:GREGORIAN
METHOD:PUBLISH
X-ORIGINAL-URL:https://trainingnetwork.ca
X-WR-CALDESC:Events for Construction Industry Training Network
REFRESH-INTERVAL;VALUE=DURATION:PT1H
X-Robots-Tag:noindex
X-PUBLISHED-TTL:PT1H
BEGIN:VTIMEZONE
TZID:America/Vancouver
BEGIN:DAYLIGHT
TZOFFSETFROM:-0800
TZOFFSETTO:-0700
TZNAME:PDT
DTSTART:20170312T100000
END:DAYLIGHT
BEGIN:STANDARD
TZOFFSETFROM:-0700
TZOFFSETTO:-0800
TZNAME:PST
DTSTART:20171105T090000
END:STANDARD
BEGIN:DAYLIGHT
TZOFFSETFROM:-0800
TZOFFSETTO:-0700
TZNAME:PDT
DTSTART:20180311T100000
END:DAYLIGHT
BEGIN:STANDARD
TZOFFSETFROM:-0700
TZOFFSETTO:-0800
TZNAME:PST
DTSTART:20181104T090000
END:STANDARD
BEGIN:DAYLIGHT
TZOFFSETFROM:-0800
TZOFFSETTO:-0700
TZNAME:PDT
DTSTART:20190310T100000
END:DAYLIGHT
BEGIN:STANDARD
TZOFFSETFROM:-0700
TZOFFSETTO:-0800
TZNAME:PST
DTSTART:20191103T090000
END:STANDARD
END:VTIMEZONE
BEGIN:VEVENT
DTSTART;TZID=America/Vancouver:20180613T073000
DTEND;TZID=America/Vancouver:20180613T163000
DTSTAMP:20260425T121217
CREATED:20180117T183856Z
LAST-MODIFIED:20180117T183856Z
UID:7407-1528875000-1528907400@trainingnetwork.ca
SUMMARY:Trenching and Excavation Safety Workshop - Burnaby
DESCRIPTION:The workshop walks participants through a comprehensive program that includes what the WorkSafeBC Regulations & Guidelines state\, safe work procedures and what to do if something goes wrong.\n\nIt covers shoring\, benching\, sloping and shielding systems. It also includes a section on location of underground utilities and the geotechnical and structural engineered documentation requirements.\nUpon completion of this course participants will be able to: \n\nIdentify hazards around trenches and excavations\nBe able to locate underground utilities\nUnderstand soil types\, soil collapse patterns\, and warning signs\nGain familiarity with WorkSafeBC regulations\nUnderstand geotechnical and structural engineered documentation\nUnderstand sloping and benching\nUnderstand shoring and shielding systems\nDescribe and demonstrate where possible safe installation and removal processes\nIdentify emergency procedures for a trench collapse\n\nUpon successful completion\, participants will receive a wallet certificate. \nWhat previous participants said: \n“Course was on point and informative.” \n“Instructor has hands on experience!’ \n“Excellent presentation and explaining.” \n“Very well done. I will hold a company wide meeting to talk about the information provided today.” \n\n Register Now!
URL:https://trainingnetwork.ca/event/trenching-and-excavation-safety-workshop-burnaby-3/
LOCATION:Accent Inn\, 3777 Henning Drive\, Burnaby\, British Columbia\, V5C 6N5\, Canada
CATEGORIES:Construction,Safety
END:VEVENT
BEGIN:VEVENT
DTSTART;TZID=America/Vancouver:20180613T080000
DTEND;TZID=America/Vancouver:20180613T163000
DTSTAMP:20260425T121217
CREATED:20180312T204058Z
LAST-MODIFIED:20180312T204058Z
UID:7508-1528876800-1528907400@trainingnetwork.ca
SUMMARY:Construction Industry Ethics - Vancouver
DESCRIPTION:By maintaining high ethical standards\, and being consistent in our practices\, we thrive both personally and professionally. This course will help you navigate the ethical grey areas you face every day. \nEffective 2017\, the online ethics course PLUS a full day classroom ethics course will be mandatory to receive Gold Seal Certification. Gold Seal has allocated a total of 3 credits to this course (2 for the online portion and 1 for the classroom portion). \nNote: Participants are required to complete the Construction Industry Ethics online course prior to enrolling in the classroom course.  \nInstructor: Tim Williams\, MBA\, B.Econ.\, CPA\, GSC\, is the President of BGC Partners Inc. BGC Partners provides training services tailor made for the construction industry. Tim has worked with numerous construction companies for over twenty years. He is a Gold Seal Certified project manager. He is an experienced and sought after trainer who has trained construction owners and managers across the on behalf of construction industry associations across Western Canada. \n Register Now!
URL:https://trainingnetwork.ca/event/construction-industry-ethics-vancouver/
LOCATION:Vancouver Regional Construction Association\, 3636 E 4th Avenue\, Vancouver\, BC\, V5M 1M3\, Canada
CATEGORIES:Business,Construction
END:VEVENT
BEGIN:VEVENT
DTSTART;TZID=America/Vancouver:20180613T080000
DTEND;TZID=America/Vancouver:20180614T163000
DTSTAMP:20260425T121217
CREATED:20180329T162748Z
LAST-MODIFIED:20180329T162748Z
UID:7559-1528876800-1528993800@trainingnetwork.ca
SUMMARY:Communication Skills - Kamloops
DESCRIPTION:  \n\n\nThis Gold Seal Certified Course is designed to improve skills in communication for supervisors and management in the office and in the field. \n\n\nParticipants will be able to identify and practice skills needed for effective communication and learn about barriers to communication. They will also learn about different communication styles and identify what their dominant style is as well as how to deal with people who have a different style of communication. The course material also provides insight about anger and how to manage it as well as help develop the skills required to supervise others. \nThe course will also cover the following: \n\nEffective Leadership through Communication Skills\nDealing with Difficult People\, Conflict and Confrontation\nAssertive Training and Speaking Skills\nCommunicating Motivation\nCommunication through Body Language\nManaging a Good Impression to Clients\nConstructive Use of Anger and Persuasion Skills\nAnger and Conflict Management Skills\nCommunicating Discipline and Termination\nResolving Disputes through Communication\nHow to Prepare for and Facilitate Meetings\nCommunication through Writing Skills\nDrafting and Preparing Proper Reports and Correspondence\nCommunicating Teamwork to Staff and Workers\n\nTwo days (16 hours) of lessons with instructors plus an online portion involving research\, reading and answering questions (7-8 hours) that will be marked by the instructors. \nTo receive your CPD accredited certificate you must complete the online portion after the 2 day course. \n Register Now!
URL:https://trainingnetwork.ca/event/communication-skills-kamloops/
LOCATION:Kamloops (TBA)\, Kamloops\, British Columbia\, Canada
CATEGORIES:Business
END:VEVENT
END:VCALENDAR