BEGIN:VCALENDAR
VERSION:2.0
PRODID:-//Construction Industry Training Network - ECPv6.15.20//NONSGML v1.0//EN
CALSCALE:GREGORIAN
METHOD:PUBLISH
X-WR-CALNAME:Construction Industry Training Network
X-ORIGINAL-URL:https://trainingnetwork.ca
X-WR-CALDESC:Events for Construction Industry Training Network
REFRESH-INTERVAL;VALUE=DURATION:PT1H
X-Robots-Tag:noindex
X-PUBLISHED-TTL:PT1H
BEGIN:VTIMEZONE
TZID:America/Vancouver
BEGIN:DAYLIGHT
TZOFFSETFROM:-0800
TZOFFSETTO:-0700
TZNAME:PDT
DTSTART:20170312T100000
END:DAYLIGHT
BEGIN:STANDARD
TZOFFSETFROM:-0700
TZOFFSETTO:-0800
TZNAME:PST
DTSTART:20171105T090000
END:STANDARD
BEGIN:DAYLIGHT
TZOFFSETFROM:-0800
TZOFFSETTO:-0700
TZNAME:PDT
DTSTART:20180311T100000
END:DAYLIGHT
BEGIN:STANDARD
TZOFFSETFROM:-0700
TZOFFSETTO:-0800
TZNAME:PST
DTSTART:20181104T090000
END:STANDARD
BEGIN:DAYLIGHT
TZOFFSETFROM:-0800
TZOFFSETTO:-0700
TZNAME:PDT
DTSTART:20190310T100000
END:DAYLIGHT
BEGIN:STANDARD
TZOFFSETFROM:-0700
TZOFFSETTO:-0800
TZNAME:PST
DTSTART:20191103T090000
END:STANDARD
END:VTIMEZONE
BEGIN:VEVENT
DTSTART;TZID=America/Vancouver:20180619T070000
DTEND;TZID=America/Vancouver:20180619T100000
DTSTAMP:20260425T085123
CREATED:20180321T191536Z
LAST-MODIFIED:20180321T191536Z
UID:7549-1529391600-1529402400@trainingnetwork.ca
SUMMARY:Get the PST Right! PST Issues for the Construction Industry (Breakfast Session) - Burnaby
DESCRIPTION:This breakfast seminar helps home builders\, renovators and trade contractors understand how PST applies to their business. It will provide critical understanding of who pays PST\, how to pay PST as well as: \n» When to pay PST on your goods and supplies\n» How PST applies to goods for resale vs. those you install\n» How PST applies to goods used to fulfill a contract outside B.C.\n» When you need to be registered to collect PST\n» When to charge your customers PST\n» How PST applies to goods bought outside B.C.\n» When you may be eligible for a PST refund and how to apply\n\n\n Register Now!
URL:https://trainingnetwork.ca/event/get-the-pst-right-pst-issues-for-the-construction-industry-breakfast-session-burnaby/
LOCATION:Accent Inn\, 3777 Henning Drive\, Burnaby\, British Columbia\, V5C 6N5\, Canada
CATEGORIES:Business,Construction
END:VEVENT
BEGIN:VEVENT
DTSTART;TZID=America/Vancouver:20180619T073000
DTEND;TZID=America/Vancouver:20180619T090000
DTSTAMP:20260425T085123
CREATED:20180529T170140Z
LAST-MODIFIED:20180529T170140Z
UID:7716-1529393400-1529398800@trainingnetwork.ca
SUMMARY:FREE Breakfast: Launch of the Technical Safety BC App - Prince George
DESCRIPTION:Technical Safety BC is launching a brand new mobile app this summer to better serve contractors! \n\n\nThe app curates learning resources like the acts & regulations\, code change manuals\, videos and downloadable resources in one convenient place and offers direct access to your portal account\, the online learning centre and a new Safety Officer Technical Chat feature that will put a Safety Officer in your pocket! \n\nThis is a complimentary breakfast session\, but registration is required. \n\n Register Now!
URL:https://trainingnetwork.ca/event/free-breakfast-launch-of-the-technical-safety-bc-app-prince-george/
LOCATION:Courtyard by Marriott Prince George\, 900 Brunswick Street\, Prince George\, BC\, V2L 2C3\, Canada
CATEGORIES:Business,Construction,Safety
END:VEVENT
END:VCALENDAR