BEGIN:VCALENDAR
VERSION:2.0
PRODID:-//Construction Industry Training Network - ECPv6.15.20//NONSGML v1.0//EN
CALSCALE:GREGORIAN
METHOD:PUBLISH
X-WR-CALNAME:Construction Industry Training Network
X-ORIGINAL-URL:https://trainingnetwork.ca
X-WR-CALDESC:Events for Construction Industry Training Network
REFRESH-INTERVAL;VALUE=DURATION:PT1H
X-Robots-Tag:noindex
X-PUBLISHED-TTL:PT1H
BEGIN:VTIMEZONE
TZID:America/Vancouver
BEGIN:DAYLIGHT
TZOFFSETFROM:-0800
TZOFFSETTO:-0700
TZNAME:PDT
DTSTART:20170312T100000
END:DAYLIGHT
BEGIN:STANDARD
TZOFFSETFROM:-0700
TZOFFSETTO:-0800
TZNAME:PST
DTSTART:20171105T090000
END:STANDARD
BEGIN:DAYLIGHT
TZOFFSETFROM:-0800
TZOFFSETTO:-0700
TZNAME:PDT
DTSTART:20180311T100000
END:DAYLIGHT
BEGIN:STANDARD
TZOFFSETFROM:-0700
TZOFFSETTO:-0800
TZNAME:PST
DTSTART:20181104T090000
END:STANDARD
BEGIN:DAYLIGHT
TZOFFSETFROM:-0800
TZOFFSETTO:-0700
TZNAME:PDT
DTSTART:20190310T100000
END:DAYLIGHT
BEGIN:STANDARD
TZOFFSETFROM:-0700
TZOFFSETTO:-0800
TZNAME:PST
DTSTART:20191103T090000
END:STANDARD
END:VTIMEZONE
BEGIN:VEVENT
DTSTART;TZID=America/Vancouver:20180823T080000
DTEND;TZID=America/Vancouver:20180823T163000
DTSTAMP:20260425T051159
CREATED:20180430T203245Z
LAST-MODIFIED:20180430T203245Z
UID:7675-1535011200-1535041800@trainingnetwork.ca
SUMMARY:Document Control with Bluebeam Revu - Burnaby
DESCRIPTION:Document Control with Revu is a Curtek course that teaches you and your staff Document Control practices using Bluebeam Revu. This full-day training course provides you and your staff with the knowledge and skills to take plain PDF construction documents and create smart PDF’s that can give project teams accurate and up to date information at all times.\n\n\nThis course promises to shorten your staff’s learning curve and maximize your investment in Revu by:\n\n• Providing hands-on instruction by a Bluebeam Certified Instructor\n• Focusing on the foundational skills needed to use Revu to achieve greater productivity\n• Delivering frequent skills reinforcement through hands-on classroom activities\, contextual feedback\, quizzing and discussion\n• Applying a progressive learning structure where each learning module builds on previous learning objectives\n• Equipping learners with takeaway reference material\, including practice files and a reference workbook to use beyond the classroom\n\n\n\nCourse Outline\n\nModule 1: Intro\n• Welcome and introductions\n• Course overview\n\nModule 2: Thumbnails Tab\n• Refresher on the Thumbnails Tab\n• Changing Page Labels Manually\n• Changing Page Labels with AutoMark™\n• Classroom Exercise – Labelling Pages\n• Creating Bookmarks with AutoMark™\n• Classroom Exercise – Bookmarking your documents\n• Extract Pages\n• Combine Pages\n• Classroom Exercise – Going from individual sheets to a combined\nset and back again\n\nModule 3: Creating a SMART PDF\n• Raster vs. Vector data\n• Basic Hyperlinks\n• Classroom Exercise\n• Behind Hyperlinks\n• Classroom Exercise\n• Creating Hyperlinks form Search Results\n• Classroom Exercise\n• Batch Link\n• Classroom Exercise\n\nModule 4: Documenting Changes\n• Compare Documents\n• Classroom Exercise\n• Overlay Pages\n• Classroom Exercise\n• Batch Overlay & Compare\n• Classroom Exercise\n\nModule 5: Updating Page Content\n• What is Slip Sheeting?\n• Replace Pages\n• Classroom Exercise\n• Batch Slip Sheeting\n• Classroom Exercise\n\n\n\nModule 6: Bluebeam Sets\n• Intro to Sets\n• Creating a New Set\n• Set Categories\n• Tags\n• Adding more/revised files to a Set\n• Classroom Exercise\n• Publishing Sets\n• Sharing Sets with Project Teams\n• Drawing Logs\n• Classroom Exercise\n\nModule 7: Looking Back\n• Review topics taught in this course\n• Final classroom exercise – can you do it all together now?\n\n\nWho should attend:\nField and office professionals in the construction\, engineering and architecture industry.\n\nInstructor:\nCurtek is a technical consulting firm specializing specifically in Bluebeam Revu and servicing the Western Canada market. We offer multiple training sessions to help our clients work effectively with their digital documents. The instructor\, Morgan Garry\, has a Bachleor of Science degree in Construction Management from BYU-Idaho and over 10 years of commercial construction experience in project management and estimating. Morgan is also the first and only Bluebeam Certified Instructor in Canada.\n\n\n Register Now!
URL:https://trainingnetwork.ca/event/document-control-with-bluebeam-revu-burnaby-2/
LOCATION:Accent Inn\, 3777 Henning Drive\, Burnaby\, British Columbia\, V5C 6N5\, Canada
CATEGORIES:Business,Construction,Equipment Training
END:VEVENT
BEGIN:VEVENT
DTSTART;TZID=America/Vancouver:20180823T080000
DTEND;TZID=America/Vancouver:20180824T163000
DTSTAMP:20260425T051159
CREATED:20180601T170149Z
LAST-MODIFIED:20180601T170149Z
UID:7720-1535011200-1535128200@trainingnetwork.ca
SUMMARY:Construction Business Management - Burnaby
DESCRIPTION:Participants will learn how to improve the management and business systems of their construction company. \nAt the end of the course participants will be able to: \n• Understand the strategic planning process and how to implement it within their context \n• Understand the importance of a business plan and how to prepare one \n• Understand the participants within the construction industry – their roles\, responsibilities and limitations \n• Understand the benefits of a participatory management culture \n• Formulate a marketing plan and understand the marketing mix \n• Develop a human resource management plan \n• Understand the employment cycle/process \n• Develop an employee performance evaluation system \n• Increase staff morale and engagement \n• Understand operational planning for construction companies \n• Formulate a financial plan\, budgets\, ratios and break-even analysis \n• Understand the importance of financial internal controls \n• Develop benchmarks and key performance indicators \n• Understand bonding and insurance for construction companies \n• Use risk management tools to identify risk and how to mitigate risk \nTwo days (16 hours) of lessons with instructors plus an online portion involving research\, reading and answering questions (7-8 hours) that will be marked by the instructors. \nTo receive your CPD accredited certificate you must complete the online portion after the 2 day course. \nWhat previous participants have said: \n“Provided great insight into business planning. Provided a better understanding of financial planning and how to understand balance sheets” \n“Terrific content for start up companies” \n“Well explained. Enjoyed the group discussions and class input” \n Register Now!
URL:https://trainingnetwork.ca/event/construction-business-management-burnaby-3/
LOCATION:Accent Inn\, 3777 Henning Drive\, Burnaby\, British Columbia\, V5C 6N5\, Canada
CATEGORIES:Business,Construction,Management
END:VEVENT
END:VCALENDAR