BEGIN:VCALENDAR
VERSION:2.0
PRODID:-//Construction Industry Training Network - ECPv6.15.20//NONSGML v1.0//EN
CALSCALE:GREGORIAN
METHOD:PUBLISH
X-WR-CALNAME:Construction Industry Training Network
X-ORIGINAL-URL:https://trainingnetwork.ca
X-WR-CALDESC:Events for Construction Industry Training Network
REFRESH-INTERVAL;VALUE=DURATION:PT1H
X-Robots-Tag:noindex
X-PUBLISHED-TTL:PT1H
BEGIN:VTIMEZONE
TZID:America/Vancouver
BEGIN:DAYLIGHT
TZOFFSETFROM:-0800
TZOFFSETTO:-0700
TZNAME:PDT
DTSTART:20170312T100000
END:DAYLIGHT
BEGIN:STANDARD
TZOFFSETFROM:-0700
TZOFFSETTO:-0800
TZNAME:PST
DTSTART:20171105T090000
END:STANDARD
BEGIN:DAYLIGHT
TZOFFSETFROM:-0800
TZOFFSETTO:-0700
TZNAME:PDT
DTSTART:20180311T100000
END:DAYLIGHT
BEGIN:STANDARD
TZOFFSETFROM:-0700
TZOFFSETTO:-0800
TZNAME:PST
DTSTART:20181104T090000
END:STANDARD
BEGIN:DAYLIGHT
TZOFFSETFROM:-0800
TZOFFSETTO:-0700
TZNAME:PDT
DTSTART:20190310T100000
END:DAYLIGHT
BEGIN:STANDARD
TZOFFSETFROM:-0700
TZOFFSETTO:-0800
TZNAME:PST
DTSTART:20191103T090000
END:STANDARD
END:VTIMEZONE
BEGIN:VEVENT
DTSTART;TZID=America/Vancouver:20180907T080000
DTEND;TZID=America/Vancouver:20180907T163000
DTSTAMP:20260425T052145
CREATED:20180420T155014Z
LAST-MODIFIED:20180420T155014Z
UID:7628-1536307200-1536337800@trainingnetwork.ca
SUMMARY:Change Order Management - Burnaby
DESCRIPTION:Changes are an inevitable part of the construction process but if not managed well\, change orders can cause unnecessary project disruptions and lead to cost increases and schedule delays. This course will provide participants with best practices for successfully navigating this complex project management challenge. \nAt the end of the course participants will be able: \n\nIdentify changes from the original contract\nDocument the changes\nPrice changes fairly and realistically\nPresent and negotiate changes collaboratively\nUnderstand the importance of early detection of change orders\nNegotiate delay claims caused by changes\nUnderstand the wording within commonly used contracts eg.\, CCDC 2 and CCA 1\nDevelop a change order process for a construction company\nIssue a notice of dispute\nProactively negotiating fair time and material rates at the bidding stage of a project.\n\nInstructor: Tim Williams\, B.Econ.\, MBA\, CPA\, GSC is the President of BGC Partners Inc. BGC Partners provides training services tailor made for the construction industry. Tim has worked with numerous construction companies for over twenty years. He is a Gold Seal Certified project manager. He is an experienced and sought after trainer who has trained construction owners and managers on behalf of construction industry associations across Western Canada. \nWhat previous participants said:\n“Completely satisfied. More information was presented than I was expecting.”\n“Instructor broke down information into tangible concepts.”\n“The instructor is great; I would like to take more courses with him.”\n Register Now!
URL:https://trainingnetwork.ca/event/change-order-management-burnaby-2/
LOCATION:Accent Inn\, 3777 Henning Drive\, Burnaby\, British Columbia\, V5C 6N5\, Canada
CATEGORIES:Business,Construction,Management
END:VEVENT
END:VCALENDAR