BEGIN:VCALENDAR
VERSION:2.0
PRODID:-//Construction Industry Training Network - ECPv6.15.20//NONSGML v1.0//EN
CALSCALE:GREGORIAN
METHOD:PUBLISH
X-WR-CALNAME:Construction Industry Training Network
X-ORIGINAL-URL:https://trainingnetwork.ca
X-WR-CALDESC:Events for Construction Industry Training Network
REFRESH-INTERVAL;VALUE=DURATION:PT1H
X-Robots-Tag:noindex
X-PUBLISHED-TTL:PT1H
BEGIN:VTIMEZONE
TZID:America/Vancouver
BEGIN:DAYLIGHT
TZOFFSETFROM:-0800
TZOFFSETTO:-0700
TZNAME:PDT
DTSTART:20170312T100000
END:DAYLIGHT
BEGIN:STANDARD
TZOFFSETFROM:-0700
TZOFFSETTO:-0800
TZNAME:PST
DTSTART:20171105T090000
END:STANDARD
BEGIN:DAYLIGHT
TZOFFSETFROM:-0800
TZOFFSETTO:-0700
TZNAME:PDT
DTSTART:20180311T100000
END:DAYLIGHT
BEGIN:STANDARD
TZOFFSETFROM:-0700
TZOFFSETTO:-0800
TZNAME:PST
DTSTART:20181104T090000
END:STANDARD
BEGIN:DAYLIGHT
TZOFFSETFROM:-0800
TZOFFSETTO:-0700
TZNAME:PDT
DTSTART:20190310T100000
END:DAYLIGHT
BEGIN:STANDARD
TZOFFSETFROM:-0700
TZOFFSETTO:-0800
TZNAME:PST
DTSTART:20191103T090000
END:STANDARD
END:VTIMEZONE
BEGIN:VEVENT
DTSTART;TZID=America/Vancouver:20181029T080000
DTEND;TZID=America/Vancouver:20181030T163000
DTSTAMP:20260424T184425
CREATED:20180419T223852Z
LAST-MODIFIED:20180419T223852Z
UID:7626-1540800000-1540917000@trainingnetwork.ca
SUMMARY:Construction Estimating - Burnaby
DESCRIPTION:Participants will learn skills and knowledge to estimate construction projects and prepare a successful bid. The course is designed for construction estimators and those with experience in construction that desire to be estimators or improve their knowledge of estimating. At the end of the course participants will be able to:\n\n\n\n\nAnalyze projects and decide on which ones to bid\nUnderstand risk analysis and how to price this into a bid\nDo competitor analysis and understand how this impacts the bid\nDo client risk analysis and how to price this into bids\nRecord material and other prices and maintain contact lists\nFormulate a bid strategy\nUnderstand how to prepare an estimate and the estimating process\nUse Construction Division Codes\nUnderstand how to present a bid\nBe familiar with how to use the bid depository\nUnderstand the requirements for bonding and insurance\nUnderstand the post-bidding process\nWork with project managers to pass on knowledge of the bid\n\nTopics to be covered:\n\nProject analysis\nRisk analysis\nCompetitor analysis\nClient risk analysis\nRecord keeping\nBid strategies\nPreparing estimates and the estimating process\nConstruction Division Codes\nPresenting bids\nBid depository\nBonding and insurance\nPost-bidding process\n\nTwo days (16 hours) of lessons with instructors plus an online portion involving research\, reading and answering questions (7-8 hours) that will be marked by the instructors. \n\n\n Register Now!
URL:https://trainingnetwork.ca/event/construction-estimating-burnaby-2/
LOCATION:Accent Inn\, 3777 Henning Drive\, Burnaby\, British Columbia\, V5C 6N5\, Canada
CATEGORIES:Business,Construction
END:VEVENT
BEGIN:VEVENT
DTSTART;TZID=America/Vancouver:20181030T080000
DTEND;TZID=America/Vancouver:20181030T163000
DTSTAMP:20260424T184425
CREATED:20180802T192853Z
LAST-MODIFIED:20180802T192853Z
UID:7881-1540886400-1540917000@trainingnetwork.ca
SUMMARY:Leading and Managing Organizational Change - Victoria
DESCRIPTION:Do you feel that change is ever constant and that you’re struggling to keep up? Are you looking for practical tools and approaches that you can take in managing changes that occur? Do you want to successfully lead projects that involve significant changes? \nThis seminar is focused on preparing you to manage organizational change and to lead and mentor others through change. You’ll understand the impacts change has on employees\, and what you need to do manage and address any resistance. You’ll also learn practical tips and techniques on how to get your organization or client ready for upcoming changes and impacts. Through a series of hands-on workshops\, you’ll develop a deeper understanding on what is involved in successfully adapting to and implementing change\, both from a personal and professional perspective. \nIn this seminar\, you’ll: \n\nUnderstand the impact change and transitions have on you and your employees\nLearn how to adapt to and be resilient to change\, whether the change is from a people\, process\, or technology transformation\nDevelop approaches to managing and leading change\nUse pragmatic tools to help you with anticipating and addressing resistance to change\, engaging with stakeholders\, and facilitating change\n\nInstructor: Eric Tung is Business Communications Instructor at SFU’s Beedie School of Business\, and an English Instructor at UBC’s Extended Learning\, where he teaches business and technical writing courses. Eric also designs and delivers customized workshops to engineering\, construction\, and consulting firms. \nIn addition to teaching and coaching\, Eric is a business transformation and change management consultant\, where he advises firms on large-scale organizational-wide changes. Eric’s clients range from smaller consulting firms to larger organizations such as the City of Vancouver\, District of North Vancouver\, Metro Vancouver\, BC Hydro\, TELUS\, BC Pension Corporation\, BC Safety Authority\, and Marshall Aerospace and Defence Group. \n\n Register Now!
URL:https://trainingnetwork.ca/event/leading-and-managing-organizational-change-victoria/
LOCATION:Sandman Hotel Victoria\, 2852 Douglas Street\, Victoria\, British Columbia\, V8T 4M5\, Canada
CATEGORIES:Business,Human Resources,Management
END:VEVENT
END:VCALENDAR