BEGIN:VCALENDAR
VERSION:2.0
PRODID:-//Construction Industry Training Network - ECPv6.15.20//NONSGML v1.0//EN
CALSCALE:GREGORIAN
METHOD:PUBLISH
X-ORIGINAL-URL:https://trainingnetwork.ca
X-WR-CALDESC:Events for Construction Industry Training Network
REFRESH-INTERVAL;VALUE=DURATION:PT1H
X-Robots-Tag:noindex
X-PUBLISHED-TTL:PT1H
BEGIN:VTIMEZONE
TZID:America/Vancouver
BEGIN:DAYLIGHT
TZOFFSETFROM:-0800
TZOFFSETTO:-0700
TZNAME:PDT
DTSTART:20170312T100000
END:DAYLIGHT
BEGIN:STANDARD
TZOFFSETFROM:-0700
TZOFFSETTO:-0800
TZNAME:PST
DTSTART:20171105T090000
END:STANDARD
BEGIN:DAYLIGHT
TZOFFSETFROM:-0800
TZOFFSETTO:-0700
TZNAME:PDT
DTSTART:20180311T100000
END:DAYLIGHT
BEGIN:STANDARD
TZOFFSETFROM:-0700
TZOFFSETTO:-0800
TZNAME:PST
DTSTART:20181104T090000
END:STANDARD
BEGIN:DAYLIGHT
TZOFFSETFROM:-0800
TZOFFSETTO:-0700
TZNAME:PDT
DTSTART:20190310T100000
END:DAYLIGHT
BEGIN:STANDARD
TZOFFSETFROM:-0700
TZOFFSETTO:-0800
TZNAME:PST
DTSTART:20191103T090000
END:STANDARD
END:VTIMEZONE
BEGIN:VEVENT
DTSTART;TZID=America/Vancouver:20181120T073000
DTEND;TZID=America/Vancouver:20181122T160000
DTSTAMP:20260424T165748
CREATED:20180605T171435Z
LAST-MODIFIED:20180605T171435Z
UID:7733-1542699000-1542902400@trainingnetwork.ca
SUMMARY:Utility Locator Specialist - Surrey
DESCRIPTION:This is a technical training program for individuals wanting to obtain introductory level training in underground utility locating.  The program was developed & supported by BC Construction Safety Alliance\, WorkSafeBC\, BC Safety Authority\, BC Common Ground Alliance and BC Municipal Safety Association who saw the need to set a standard in utility locating instruction\, and to provide the province with training that is tailored to BC workers. \nThis Utility Locator Specialist Course involves three (3) days of in-class and practical instruction and successful students must complete a written test and a site-based practical evaluation. \nStudents require CSA certified steel toe boots and high vis safety vest and bring your own Utility Locating Device if possible. Led by experienced hands on Instructor. \n*Note: There are no prerequisites for this course. \nParticipants in this course will gain the knowledge and skills to be able to: \n\nLocate underground utilities safely and effectively\nApply skills in accordance with regulation and best practice\nSeek certification as a Registered Utility Locator Technician (Through the ASTTBC)\n\nModules and Learning Objectives \n\nModule 1: Introduction to Damage Prevention in British Columbia\nModule 2: The Locating System in BC\nModule 3: Utilities Infrastructure\nModule 4: Fundamentals of Electromagnetic Locating\nModule 5: Safety and Professionalism\nModule 6: Records\, Maps and Documentation\nModule 7: Solving Problems\n\n Register Now!
URL:https://trainingnetwork.ca/event/utility-locator-specialist-surrey-4/
LOCATION:Kwantlen Polytechnic University Cloverdale campus\, 5500 180 Street\, Surrey\, BC\, V3S 6R1\, Canada
CATEGORIES:Construction,Equipment Training,Safety
END:VEVENT
BEGIN:VEVENT
DTSTART;TZID=America/Vancouver:20181122T080000
DTEND;TZID=America/Vancouver:20181123T163000
DTSTAMP:20260424T165748
CREATED:20180711T174712Z
LAST-MODIFIED:20180711T174712Z
UID:7793-1542873600-1542990600@trainingnetwork.ca
SUMMARY:Construction Estimating - Kamloops
DESCRIPTION:Participants will learn skills and knowledge to estimate construction projects and prepare a successful bid. The course is designed for construction estimators and those with experience in construction that desire to be estimators or improve their knowledge of estimating. At the end of the course participants will be able to:\n\n\n\n\nAnalyze projects and decide on which ones to bid\nUnderstand risk analysis and how to price this into a bid\nDo competitor analysis and understand how this impacts the bid\nDo client risk analysis and how to price this into bids\nRecord material and other prices and maintain contact lists\nFormulate a bid strategy\nUnderstand how to prepare an estimate and the estimating process\nUse Construction Division Codes\nUnderstand how to present a bid\nBe familiar with how to use the bid depository\nUnderstand the requirements for bonding and insurance\nUnderstand the post-bidding process\nWork with project managers to pass on knowledge of the bid\n\nTopics to be covered:\n\nProject analysis\nRisk analysis\nCompetitor analysis\nClient risk analysis\nRecord keeping\nBid strategies\nPreparing estimates and the estimating process\nConstruction Division Codes\nPresenting bids\nBid depository\nBonding and insurance\nPost-bidding process\n\nTwo days (16 hours) of lessons with instructors plus an online portion involving research\, reading and answering questions (7-8 hours) that will be marked by the instructors. \n\n\n Register Now!
URL:https://trainingnetwork.ca/event/construction-estimating-kamloops/
LOCATION:Kamloops (TBA)\, Kamloops\, British Columbia\, Canada
CATEGORIES:Business,Construction
END:VEVENT
END:VCALENDAR