BEGIN:VCALENDAR
VERSION:2.0
PRODID:-//Construction Industry Training Network - ECPv6.15.20//NONSGML v1.0//EN
CALSCALE:GREGORIAN
METHOD:PUBLISH
X-WR-CALNAME:Construction Industry Training Network
X-ORIGINAL-URL:https://trainingnetwork.ca
X-WR-CALDESC:Events for Construction Industry Training Network
REFRESH-INTERVAL;VALUE=DURATION:PT1H
X-Robots-Tag:noindex
X-PUBLISHED-TTL:PT1H
BEGIN:VTIMEZONE
TZID:America/Vancouver
BEGIN:DAYLIGHT
TZOFFSETFROM:-0800
TZOFFSETTO:-0700
TZNAME:PDT
DTSTART:20170312T100000
END:DAYLIGHT
BEGIN:STANDARD
TZOFFSETFROM:-0700
TZOFFSETTO:-0800
TZNAME:PST
DTSTART:20171105T090000
END:STANDARD
BEGIN:DAYLIGHT
TZOFFSETFROM:-0800
TZOFFSETTO:-0700
TZNAME:PDT
DTSTART:20180311T100000
END:DAYLIGHT
BEGIN:STANDARD
TZOFFSETFROM:-0700
TZOFFSETTO:-0800
TZNAME:PST
DTSTART:20181104T090000
END:STANDARD
BEGIN:DAYLIGHT
TZOFFSETFROM:-0800
TZOFFSETTO:-0700
TZNAME:PDT
DTSTART:20190310T100000
END:DAYLIGHT
BEGIN:STANDARD
TZOFFSETFROM:-0700
TZOFFSETTO:-0800
TZNAME:PST
DTSTART:20191103T090000
END:STANDARD
END:VTIMEZONE
BEGIN:VEVENT
DTSTART;TZID=America/Vancouver:20181217T080000
DTEND;TZID=America/Vancouver:20181217T163000
DTSTAMP:20260424T133910
CREATED:20180420T160021Z
LAST-MODIFIED:20180420T160021Z
UID:7634-1545033600-1545064200@trainingnetwork.ca
SUMMARY:Civil Blueprint Reading - Burnaby
DESCRIPTION:Participants will learn how to read a set of civil construction blueprints\, drawing specifications and general notes. Using various samples of civil blueprints\, participants will gain experience and practical knowledge for their day-to-day work on construction projects. \nAt the end of the course participants will be able to:\n• Have an elementary knowledge of civil blueprint reading as it relates to building construction projects\n• Understand in general terms the design process and the role of design professionals\n• Understand how Building Codes and Bylaws impact blueprints\n• Understand specifications and the contractual hierarchy\n• Be able to find trade information using blueprints\n• Be able to answer basic construction questions related to the layout and installation of materials\n• Be able to identify elementary problems or short comings of the blueprints you are using\n• Be familiar with civil\, architectural and structural drawings\, and how they fit together\n• Understand and be able to use architectural & metric scale rules\n• Understand how to convert metric dimensions to architectural (imperial) dimensions\n• Know what a floor plan\, section\, detail\, profile and elevation are\n• Understand symbols\, notations\, abbreviations and material schedules\n• Be able to work with the drawings to obtain basic information on dimensions\, finishes\, details\, area calculations\, and the ability to do simple materialtakeoffs \nAudience: Ideal for those who have little or no background in civil blueprint reading. \nThe instructor: Mark Waters\, CTech.\, GSC has worked in the civil and environmental construction industry for the past 30 years and is an experienced project manager and\nestimator. He graduated from the BCIT Geomatics Technician program with honours in 1996 and joined the Applied Science Technologists and Technicians Association of BC (ASTTBC) in 1997. Mark spent many of his earlier civil construction years as a project superintendent\nand engineering surveyor. \n Register Now!
URL:https://trainingnetwork.ca/event/civil-blueprint-reading-burnaby/
LOCATION:Accent Inn\, 3777 Henning Drive\, Burnaby\, British Columbia\, V5C 6N5\, Canada
CATEGORIES:Business,Construction,Equipment Training
END:VEVENT
BEGIN:VEVENT
DTSTART;TZID=America/Vancouver:20181217T080000
DTEND;TZID=America/Vancouver:20181217T163000
DTSTAMP:20260424T133910
CREATED:20181106T212838Z
LAST-MODIFIED:20181106T212838Z
UID:8084-1545033600-1545064200@trainingnetwork.ca
SUMMARY:Supervisors Bootcamp: Practical Leadership Tools for Front Line Supervisors - Burnaby
DESCRIPTION:The Supervisors Bootcamp is designed specifically for front-line supervisors and managers in all industries. It is open to individuals with all levels of experience\, but is most effective for those working for companies with an already established safety management system. \nParticipants will be given a leadership ‘tool kit’ comprised of the simplest but most effective leadership concepts\, from which they can effectively build and develop their own leadership style. They will also take self-assessment questionnaires and participate in exercises based on the actual work they do and the crews they lead. \nThe ideas covered in this course will assist employers to tackle important and emerging issues facing business operations today: \n·         Greater productivity and quality outcomes \n·         Greater safety program effectiveness \n·         Greater worker retention and engagement \nParticipants will leave the session with leadership baselines established\, reference materials and course content\, and practical and personalised leadership goals for them to work towards. \nParticipants will also be introduced to ‘safety-II’ or ‘safety differently’\, and the workshop includes strategies for putting these concepts into practical use. \nWhat previous participants said: \n\n“A lot of good new tools! I help train new guys all the time and a few methods from today will help a lot.” \n“Related to every day life – not just out of the book.” \n“Knowledgeable and personable instructor.” \n“I was impressed with the instructor’s passion and knowledge.” \n“A lot of information to take back to the site.” \nInstructor: Since beginning his career over 25 years ago\, Jeff Lyth has become recognized as an expert and innovator in workplace leadership and safety. He served as Director of Corporate Health and Safety with one of Western Canada’s leading high-rise contractors for nearly a decade during which time he was a facilitator of their leadership development program. He currently works in assisting organizations and safety departments to move beyond conventional views in both leadership and construction safety\, and to break through the performance plateaus associated with those views. \n Register Now!
URL:https://trainingnetwork.ca/event/supervisors-bootcamp-practical-leadership-tools-for-front-line-supervisors-burnaby/
LOCATION:Accent Inn\, 3777 Henning Drive\, Burnaby\, British Columbia\, V5C 6N5\, Canada
CATEGORIES:Business,Construction,Human Resources,Management,Safety
END:VEVENT
BEGIN:VEVENT
DTSTART;TZID=America/Vancouver:20181217T080000
DTEND;TZID=America/Vancouver:20181218T163000
DTSTAMP:20260424T133910
CREATED:20181023T181655Z
LAST-MODIFIED:20181023T181655Z
UID:8035-1545033600-1545150600@trainingnetwork.ca
SUMMARY:Microsoft Project - Burnaby
DESCRIPTION:The main objective of this 2-day course is to introduce the commands\, functions\, and capabilities of Microsoft Project. It is designed for computer users who are new to Microsoft Project who want to gain a thorough understanding of one of the world’s most popular project management software packages. \n\n\nThe following list summarizes skills that participants will be comfortable with after this course. \n\n\nUnderstanding Views\, Screen Tips\, Ribbon\, and the Quick Access toolbar;\nCreate\, edit and outline a task list\, establish dependencies by linking tasks\nAdd and assign resources\, work with project calendars\, and enter project costs\nPrint project information and customize reports\nApply task type settings\, set task constraints\nApply preset and custom contours\, edit resource assignments and set and modify a baseline\nTrack and report on an active project and compare to baseline\nSort\, filter\, and group views\nFormat views and the Gantt chart\nCustomize Microsoft project elements including tables\, views\, and reports\nUse sample templates\, create custom templates\, and use the organizer to manage project elements\nDisplay progress lines\, apply earned value tables\, and conduct pert analysis\nCreate master projects\, insert and work with subprojects\, and create links to external tasks\nRunning multiple projects with a common resource pool\n\n\n\nThis hands-on course is taught by a certified Microsoft Master Instructor. Participants will receive authorized Microsoft manuals and Microsoft approved practice exercises. \nAll participants will be provided with laptops. \nMax participants: 12 \nWhat previous participants said: \n“Well instructed\, good pace.” \n“Very knowledgeable and good teacher!” \n“Course was laid out in a very logical and easy to follow manner.” \n“I have been involved in more than my share of industry education and training across the country and can say taking your course provided genuine value and added tools for advancement.” \n“Not only did you bring your in-depth knowledge of MS Project\, but provided a real benefit to learn under your personal approach and understanding of the audience\, both in their industry and skill sets.” \n Register Now!
URL:https://trainingnetwork.ca/event/microsoft-project-burnaby-4/
LOCATION:Accent Inn\, 3777 Henning Drive\, Burnaby\, British Columbia\, V5C 6N5\, Canada
CATEGORIES:Business,Equipment Training,Management
END:VEVENT
END:VCALENDAR