BEGIN:VCALENDAR
VERSION:2.0
PRODID:-//Construction Industry Training Network - ECPv6.15.20//NONSGML v1.0//EN
CALSCALE:GREGORIAN
METHOD:PUBLISH
X-WR-CALNAME:Construction Industry Training Network
X-ORIGINAL-URL:https://trainingnetwork.ca
X-WR-CALDESC:Events for Construction Industry Training Network
REFRESH-INTERVAL;VALUE=DURATION:PT1H
X-Robots-Tag:noindex
X-PUBLISHED-TTL:PT1H
BEGIN:VTIMEZONE
TZID:America/Vancouver
BEGIN:DAYLIGHT
TZOFFSETFROM:-0800
TZOFFSETTO:-0700
TZNAME:PDT
DTSTART:20180311T100000
END:DAYLIGHT
BEGIN:STANDARD
TZOFFSETFROM:-0700
TZOFFSETTO:-0800
TZNAME:PST
DTSTART:20181104T090000
END:STANDARD
BEGIN:DAYLIGHT
TZOFFSETFROM:-0800
TZOFFSETTO:-0700
TZNAME:PDT
DTSTART:20190310T100000
END:DAYLIGHT
BEGIN:STANDARD
TZOFFSETFROM:-0700
TZOFFSETTO:-0800
TZNAME:PST
DTSTART:20191103T090000
END:STANDARD
BEGIN:DAYLIGHT
TZOFFSETFROM:-0800
TZOFFSETTO:-0700
TZNAME:PDT
DTSTART:20200308T100000
END:DAYLIGHT
BEGIN:STANDARD
TZOFFSETFROM:-0700
TZOFFSETTO:-0800
TZNAME:PST
DTSTART:20201101T090000
END:STANDARD
END:VTIMEZONE
BEGIN:VEVENT
DTSTART;TZID=America/Vancouver:20190111T083000
DTEND;TZID=America/Vancouver:20190125T163000
DTSTAMP:20260424T083926
CREATED:20181105T165756Z
LAST-MODIFIED:20181105T165823Z
UID:8056-1547195400-1548433800@trainingnetwork.ca
SUMMARY:2015 Canadian Electrical Code - FSR Prep Course - Surrey
DESCRIPTION:Course dates: January 11\, 12\, 18\, 19\, 25 \nThis course is recognized by Technical Safety BC and is a pre-requisite for applying for the Class A\, B or C Field Safety Representative (FSR) Examination. Each successful participant will be issued a letter of completion\, which is required before writing any exams.\n\nThose wanting a code refresher or who do not meet the prerequisites and do not plan to write the exam may also enroll.\n\nIn addition to covering all sections of the Electrical Code\, the course will examine the following:\n\n\nAuthorization procedures for electrical contractors\nBC Safety Standards Act\nBC Amendments\nBC Directives\nElectrical Safety Regulation\nInformation Bulletins\nSafety Standards General Regulations\n\nThe course is taught by Technical Safety BC approved Instructor.\n\nParticipants are responsible for bringing their own 2015 Canadian Electrical Code book.\n\nIndividuals must make their own arrangements for the exam with Technical Safety BC.\n\n Register Now!
URL:https://trainingnetwork.ca/event/2015-canadian-electrical-code-fsr-prep-course/
LOCATION:Ace Trades and Technical Institute\, 210-8120\, Surrey\, BC\, V3W 1R1\, Canada
CATEGORIES:Construction
END:VEVENT
BEGIN:VEVENT
DTSTART;TZID=America/Vancouver:20190114T080000
DTEND;TZID=America/Vancouver:20190115T163000
DTSTAMP:20260424T083926
CREATED:20181106T212036Z
LAST-MODIFIED:20181106T212036Z
UID:8068-1547452800-1547569800@trainingnetwork.ca
SUMMARY:Supervisory and Management Skills - Burnaby
DESCRIPTION:Participants will improve their skills in leadership\, management and supervision of staff. Participants will learn skills to enhance their ability to build a collaborative team culture with their staff and on job sites. \nAt the end of the course participants will be able to: \n• Understand the differences between leadership\, management and supervision \n• Identify different leadership styles and approaches \n• Apply different leadership styles to deal with various situations \n• Knowledge of motivational theories – Mazlow\, Herzberg\, MARS \n• Ability to enhance individual and group performance and engagement \n• Understand different personality styles and how to communicate appropriately \n• Effectively manage time \n• Understanding stress and how to manage it at work \n• Knowledge of substance abuse\, recognition and prevention \n• Conduct a successful toolbox talk \n• Appropriately discipline and/or terminate staff \n• Apply various negotiating skills \n• Deal with difficult people\, conflict and confrontation \n• Use collaborative decision making skills \n• Understand a systems approach to management of construction companies \nWhat previous participants said: \n“Great Class!  Instructor was able to hold our attention for long periods of time.” \n“Excellent course layout and presentation.” \n Register Now!
URL:https://trainingnetwork.ca/event/supervisory-and-management-skills-burnaby-3/
LOCATION:Accent Inn\, 3777 Henning Drive\, Burnaby\, British Columbia\, V5C 6N5\, Canada
CATEGORIES:Business,Construction,Human Resources,Management
END:VEVENT
BEGIN:VEVENT
DTSTART;TZID=America/Vancouver:20190115T073000
DTEND;TZID=America/Vancouver:20190115T163000
DTSTAMP:20260424T083926
CREATED:20181025T173010Z
LAST-MODIFIED:20181025T173010Z
UID:8046-1547537400-1547569800@trainingnetwork.ca
SUMMARY:Hazard Recognition and Control - Burnaby
DESCRIPTION:This session is designed to provide participants the required knowledge to understand the principle of hazard recognition and control as well as the methods used to ensure hazards are identified and adequately addressed in the workplace. At the end of the session participants will have an understanding of the requirements for identifying hazards\, the tools required to assess the identified hazards and score them by priority\, and methods to take the information gathered and develop Safe Work Procedures to mitigate the hazards. Participants will take part in reviewing a number of hazard scenarios as well as developing procedures to mitigate the identified hazards.\n\nTopics covered:\n\nThe regulatory requirements to identify and assess hazards.\nWho may do a hazard assessment?\nHow to gather information regarding the hazards of a process?\nHow to conduct interviews with persons familiar with the process being assessed?\nDeveloping appropriate conclusions and mitigating factors.\nCompleting the Hazard Assessment Form and develop Safe Work Procedures.\n\nInstructor: Terry Duncan is an independent safety specialist with over 30 years of experience in occupational safety. Past roles include safety coordinator for Dominion Bridge of Western Canada\, and safety coordinator/industrial engineer for Freightliner Canada. Terry was also directly involved in the development of the City of Vancouver’s TSC/CSO training program. He has worked in construction\, manufacturing\, forestry\, pulp and paper\, and municipal and provincial governments. In 1998\, Terry was voted Senior Safety Professional of the Year by the Canadian Society of Safety Engineering.\n\nWhat previous participants said:\n“Excellent course! More info than expected!”\n“Very interesting course and knowledgeable instructor.”\n“Instructor has lots of real world experience and examples.”\n Register Now!
URL:https://trainingnetwork.ca/event/hazard-recognition-and-control-burnaby-2/
LOCATION:Accent Inn\, 3777 Henning Drive\, Burnaby\, British Columbia\, V5C 6N5\, Canada
CATEGORIES:Business,Construction,Management,Safety
END:VEVENT
END:VCALENDAR