BEGIN:VCALENDAR
VERSION:2.0
PRODID:-//Construction Industry Training Network - ECPv6.15.20//NONSGML v1.0//EN
CALSCALE:GREGORIAN
METHOD:PUBLISH
X-WR-CALNAME:Construction Industry Training Network
X-ORIGINAL-URL:https://trainingnetwork.ca
X-WR-CALDESC:Events for Construction Industry Training Network
REFRESH-INTERVAL;VALUE=DURATION:PT1H
X-Robots-Tag:noindex
X-PUBLISHED-TTL:PT1H
BEGIN:VTIMEZONE
TZID:America/Vancouver
BEGIN:DAYLIGHT
TZOFFSETFROM:-0800
TZOFFSETTO:-0700
TZNAME:PDT
DTSTART:20180311T100000
END:DAYLIGHT
BEGIN:STANDARD
TZOFFSETFROM:-0700
TZOFFSETTO:-0800
TZNAME:PST
DTSTART:20181104T090000
END:STANDARD
BEGIN:DAYLIGHT
TZOFFSETFROM:-0800
TZOFFSETTO:-0700
TZNAME:PDT
DTSTART:20190310T100000
END:DAYLIGHT
BEGIN:STANDARD
TZOFFSETFROM:-0700
TZOFFSETTO:-0800
TZNAME:PST
DTSTART:20191103T090000
END:STANDARD
BEGIN:DAYLIGHT
TZOFFSETFROM:-0800
TZOFFSETTO:-0700
TZNAME:PDT
DTSTART:20200308T100000
END:DAYLIGHT
BEGIN:STANDARD
TZOFFSETFROM:-0700
TZOFFSETTO:-0800
TZNAME:PST
DTSTART:20201101T090000
END:STANDARD
END:VTIMEZONE
BEGIN:VEVENT
DTSTART;TZID=America/Vancouver:20190111T083000
DTEND;TZID=America/Vancouver:20190125T163000
DTSTAMP:20260424T083932
CREATED:20181105T165756Z
LAST-MODIFIED:20181105T165823Z
UID:8056-1547195400-1548433800@trainingnetwork.ca
SUMMARY:2015 Canadian Electrical Code - FSR Prep Course - Surrey
DESCRIPTION:Course dates: January 11\, 12\, 18\, 19\, 25 \nThis course is recognized by Technical Safety BC and is a pre-requisite for applying for the Class A\, B or C Field Safety Representative (FSR) Examination. Each successful participant will be issued a letter of completion\, which is required before writing any exams.\n\nThose wanting a code refresher or who do not meet the prerequisites and do not plan to write the exam may also enroll.\n\nIn addition to covering all sections of the Electrical Code\, the course will examine the following:\n\n\nAuthorization procedures for electrical contractors\nBC Safety Standards Act\nBC Amendments\nBC Directives\nElectrical Safety Regulation\nInformation Bulletins\nSafety Standards General Regulations\n\nThe course is taught by Technical Safety BC approved Instructor.\n\nParticipants are responsible for bringing their own 2015 Canadian Electrical Code book.\n\nIndividuals must make their own arrangements for the exam with Technical Safety BC.\n\n Register Now!
URL:https://trainingnetwork.ca/event/2015-canadian-electrical-code-fsr-prep-course/
LOCATION:Ace Trades and Technical Institute\, 210-8120\, Surrey\, BC\, V3W 1R1\, Canada
CATEGORIES:Construction
END:VEVENT
BEGIN:VEVENT
DTSTART;TZID=America/Vancouver:20190117T073000
DTEND;TZID=America/Vancouver:20190117T120000
DTSTAMP:20260424T083932
CREATED:20180816T172035Z
LAST-MODIFIED:20180816T172115Z
UID:7903-1547710200-1547726400@trainingnetwork.ca
SUMMARY:Writing Winning Proposals - Burnaby
DESCRIPTION:How do I write a compelling and winning proposal that clearly and concisely articulates the core benefits for a client? How do I ensure that my proposal is competitive? \nThis half-day course will help you to develop the confidence and writing skills necessary to write effective proposals. Through a series of hands-on workshops\, you will learn the key elements of writing and submitting winning proposals\, and how to tailor your content for audiences who are in your field\, and non-technical audiences in other fields. \nYou will: \n\nLearn about different types of proposals\, from formal Request for Proposals (RFP) and related requests from vendors\, to less formal proposals\, estimates\, and quotes\nUnderstand how to differentiate your proposal from others by articulating your competitive advantages\nApply specific techniques across the planning\, drafting\, and revising stages for your proposal\nUnderstand what clients are looking for when they are evaluating your proposal\n\nInstructor: Eric Tung is Business Communications Instructor at SFU’s Beedie School of Business\, and an English Instructor at UBC’s Extended Learning\, where he teaches business and technical writing courses. Eric also designs and delivers customized technical writing and coaching workshops to engineering\, construction\, and consulting firms. He has written numerous proposals on behalf of clients and prior to being a consultant\, evaluated proposals. \nIn addition to teaching and coaching\, Eric is a business transformation and change management consultant\, where he advises firms on large-scale organizational-wide changes. Eric’s clients range from smaller consulting firms to larger organizations such as the City of Vancouver\, District of North Vancouver\, Metro Vancouver\, BC Hydro\, TELUS\, BC Pension Corporation\, BC Safety Authority\, and Marshall Aerospace and Defence Group. \n Register Now!
URL:https://trainingnetwork.ca/event/writing-winning-proposals-burnaby/
LOCATION:Accent Inn\, 3777 Henning Drive\, Burnaby\, British Columbia\, V5C 6N5\, Canada
CATEGORIES:Business
END:VEVENT
BEGIN:VEVENT
DTSTART;TZID=America/Vancouver:20190117T074500
DTEND;TZID=America/Vancouver:20190117T163000
DTSTAMP:20260424T083932
CREATED:20181108T185147Z
LAST-MODIFIED:20181108T185147Z
UID:8095-1547711100-1547742600@trainingnetwork.ca
SUMMARY:Responsibilities of Joint Health and Safety Committees - Burnaby
DESCRIPTION:On April 3\, 2017\, changes to the Occupational Health and Safety Regulation regarding joint health and safety committees and worker health and safety representatives took effect. All new joint committee members selected on or after April 3\, 2017 must receive eight hours of training. This course will help participants fulfill the new requirement. \n\nParticipants will: \n\nKnow how to use the OHS Regulation and WC Act to access health & safety requirements;\nExplain the roles and functions of the Joint Committee and the Worker Representatives;\nLearn how to perform an incident investigation;\nLearn how to perform a formal site inspection; and\nDevelop a foundation in knowledge to:\n\nPromote workplace health and safety\nAssist in ensuring the health and safety program elements are implemented;\nConduct and participate in Joint Committee Meetings; and\nWork cooperatively to address workers’ health and safety concerns.\n\n\n\nTopics covered: \n\nUse of WorkSafe OHS Regulation;\nJoint Health and Safety committee and workers representatives;\nOHS Program;\nSafety Inspections;\nIncident investigations;\nRefusal of unsafe work;\nHow to work as a committee;\nDifferent types of recommendations; and\nHazard management.\n\n Register Now!
URL:https://trainingnetwork.ca/event/responsibilities-of-joint-health-and-safety-committees-burnaby-5/
LOCATION:Universal Health and Safety\, 201-4199 Lougheed Hwy\, Burnaby\, British Columbia\, V5C 3Y6\, Canada
CATEGORIES:Business,Construction,Safety
END:VEVENT
END:VCALENDAR