BEGIN:VCALENDAR
VERSION:2.0
PRODID:-//Construction Industry Training Network - ECPv6.15.20//NONSGML v1.0//EN
CALSCALE:GREGORIAN
METHOD:PUBLISH
X-ORIGINAL-URL:https://trainingnetwork.ca
X-WR-CALDESC:Events for Construction Industry Training Network
REFRESH-INTERVAL;VALUE=DURATION:PT1H
X-Robots-Tag:noindex
X-PUBLISHED-TTL:PT1H
BEGIN:VTIMEZONE
TZID:America/Vancouver
BEGIN:DAYLIGHT
TZOFFSETFROM:-0800
TZOFFSETTO:-0700
TZNAME:PDT
DTSTART:20180311T100000
END:DAYLIGHT
BEGIN:STANDARD
TZOFFSETFROM:-0700
TZOFFSETTO:-0800
TZNAME:PST
DTSTART:20181104T090000
END:STANDARD
BEGIN:DAYLIGHT
TZOFFSETFROM:-0800
TZOFFSETTO:-0700
TZNAME:PDT
DTSTART:20190310T100000
END:DAYLIGHT
BEGIN:STANDARD
TZOFFSETFROM:-0700
TZOFFSETTO:-0800
TZNAME:PST
DTSTART:20191103T090000
END:STANDARD
BEGIN:DAYLIGHT
TZOFFSETFROM:-0800
TZOFFSETTO:-0700
TZNAME:PDT
DTSTART:20200308T100000
END:DAYLIGHT
BEGIN:STANDARD
TZOFFSETFROM:-0700
TZOFFSETTO:-0800
TZNAME:PST
DTSTART:20201101T090000
END:STANDARD
END:VTIMEZONE
BEGIN:VEVENT
DTSTART;TZID=America/Vancouver:20190131T080000
DTEND;TZID=America/Vancouver:20190201T163000
DTSTAMP:20260424T065930
CREATED:20181019T152620Z
LAST-MODIFIED:20181019T152620Z
UID:8029-1548921600-1549038600@trainingnetwork.ca
SUMMARY:Communication Skills - Burnaby
DESCRIPTION:Participants will be able to identify and practice skills needed for effective communication and learn about barriers to communication. They will also learn about different communication styles and identify what their dominant style is as well as how to deal with people who have a different style of communication. The course material also provides insight about anger and how to manage it as well as help develop the skills required to supervise others. \nThe course will also cover the following: \n\nEffective Leadership through Communication Skills\nDealing with Difficult People\, Conflict and Confrontation\nAssertive Training and Speaking Skills\nCommunicating Motivation\nCommunication through Body Language\nManaging a Good Impression to Clients\nConstructive Use of Anger and Persuasion Skills\nAnger and Conflict Management Skills\nCommunicating Discipline and Termination\nResolving Disputes through Communication\nHow to Prepare for and Facilitate Meetings\nCommunication through Writing Skills\nDrafting and Preparing Proper Reports and Correspondence\nCommunicating Teamwork to Staff and Workers\n\nTwo days (16 hours) of lessons with instructors plus an online portion involving research\, reading and answering questions (7-8 hours) that will be marked by the instructors. \nTo receive your CPD accredited certificate you must complete the online portion after the 2 day course. \n Register Now!
URL:https://trainingnetwork.ca/event/communication-skills-burnaby/
LOCATION:Accent Inn\, 3777 Henning Drive\, Burnaby\, British Columbia\, V5C 6N5\, Canada
CATEGORIES:Business,Human Resources,Management
END:VEVENT
END:VCALENDAR