BEGIN:VCALENDAR
VERSION:2.0
PRODID:-//Construction Industry Training Network - ECPv6.15.20//NONSGML v1.0//EN
CALSCALE:GREGORIAN
METHOD:PUBLISH
X-ORIGINAL-URL:https://trainingnetwork.ca
X-WR-CALDESC:Events for Construction Industry Training Network
REFRESH-INTERVAL;VALUE=DURATION:PT1H
X-Robots-Tag:noindex
X-PUBLISHED-TTL:PT1H
BEGIN:VTIMEZONE
TZID:America/Vancouver
BEGIN:DAYLIGHT
TZOFFSETFROM:-0800
TZOFFSETTO:-0700
TZNAME:PDT
DTSTART:20180311T100000
END:DAYLIGHT
BEGIN:STANDARD
TZOFFSETFROM:-0700
TZOFFSETTO:-0800
TZNAME:PST
DTSTART:20181104T090000
END:STANDARD
BEGIN:DAYLIGHT
TZOFFSETFROM:-0800
TZOFFSETTO:-0700
TZNAME:PDT
DTSTART:20190310T100000
END:DAYLIGHT
BEGIN:STANDARD
TZOFFSETFROM:-0700
TZOFFSETTO:-0800
TZNAME:PST
DTSTART:20191103T090000
END:STANDARD
BEGIN:DAYLIGHT
TZOFFSETFROM:-0800
TZOFFSETTO:-0700
TZNAME:PDT
DTSTART:20200308T100000
END:DAYLIGHT
BEGIN:STANDARD
TZOFFSETFROM:-0700
TZOFFSETTO:-0800
TZNAME:PST
DTSTART:20201101T090000
END:STANDARD
END:VTIMEZONE
BEGIN:VEVENT
DTSTART;TZID=America/Vancouver:20190204T080000
DTEND;TZID=America/Vancouver:20190204T163000
DTSTAMP:20260424T070020
CREATED:20181109T182727Z
LAST-MODIFIED:20181109T182727Z
UID:8119-1549267200-1549297800@trainingnetwork.ca
SUMMARY:Writing Effective Letters\, Scope Documents\, Reports and Proposals - Kelowna
DESCRIPTION:What are key elements of an effectively written document? What should I focus on in my letters\, bids\, proposals\, work plans\, reports\, and documentation? \nPotential clients often judge you based on whether you can clearly articulate the services you provide. Clients may skim your documents\, so you need to ensure that your content is organized and that your key points stand out. Your writing ability is important. \nThis seminar is focused on helping you to do exactly that: to write more effectively. You’ll learn to tailor your writing for your audience and purpose. You’ll apply the strategies required for effective emails\, reports\, and proposals. In addition\, you’ll also incorporate key principles for editing and revising your documents. \nWe’ll cover multiple topics\, including: \n1. Planning your scope documents \n2. Writing concisely \n3. Crafting effective emails and letters \n4. Responding to bids and proposals \n5. Structuring your reports and project documentation \nInstructor: Eric Tung is Business Communications Instructor at SFU’s Beedie School of Business\, and an English Instructor at UBC’s Extended Learning\, where he teaches business and technical writing courses. \nIn addition to teaching\, as a Principal Consultant at Prolepsis Consulting\, Eric designs and delivers customized business\, proposal\, and technical writing workshops to various organizations\, including construction\, engineering\, and consulting firms. He advises firms on their communications strategy\, and writes proposals and business plans for his clients. \nEric also specializes in business transformation and change management consulting\, where he advises firms on large-scale organizational-wide changes. Eric’s clients range from smaller consulting firms to larger organizations such as the City of Vancouver\, District of North Vancouver\, Metro Vancouver\, BC Hydro\, TELUS\, BC Pension Corporation\, BC Safety Authority\, and Marshall Aerospace and Defence Group. \nWhat previous participants said: \n“I thought I did not need to take this course at first. After today\, I have a better understanding of how to prepare my documents.” \n“I found this to be very informative.” \n“All was valuable. Makes me rethink how I write.” \n\n Register Now!
URL:https://trainingnetwork.ca/event/writing-effective-letters-scope-documents-reports-and-proposals-kelowna/
LOCATION:Best Western Plus Kelowna Hotel & Suites\, 2402 Highway 97 North\, Kelowna\, British Columbia\, V1X 4J1\, Canada
CATEGORIES:Business,Construction,Management
END:VEVENT
BEGIN:VEVENT
DTSTART;TZID=America/Vancouver:20190204T080000
DTEND;TZID=America/Vancouver:20190205T163000
DTSTAMP:20260424T070020
CREATED:20181106T212327Z
LAST-MODIFIED:20181106T212327Z
UID:8072-1549267200-1549384200@trainingnetwork.ca
SUMMARY:Construction Project Management - Burnaby
DESCRIPTION:Participants will develop skills and knowledge of how to manage a construction project. Participants will gain an understanding of the project processes and constraints encountered by project managers and how to successfully manage a complex project. \nAt the end of the course participants will be able to: \n• Understand the importance of project planning \n• Understand the Project Management Body of Knowledge (PMBoK 5th Ed) \n• Use the appropriate CCDC/CCA contract and/or Purchase Orders for the project \n• Use risk management tools and mitigate for risk \n• Understand the estimating process \n• Understand the importance of scheduling and use appropriate scheduling tools \n• Understand expectations management and adapt communication accordingly \n• Understand the components of projects – labour\, materials and overheads – and use of techniques to maximize job profitability and minimize costs \n• Do post-mortem analysis after project completion \n• Understand the impact and methodology of construction cost control \n• Use of site and office project cost control methods \n• Use Construction Industry Codes to analyse costs vs budget \n• Adapt the project estimate to a project budget \n• Understand how job costing fits within the overall accounting systems \n• Understand Return on Investment (ROI) and how this impacts required project profit margins \n• Understand the contract process from bidding to project close-out \n• Use of job profit forecasting methods to integrate into company forecasting systems \n• Understand the importance of cash flow projections for construction companies \nTwo days (16 hours) of lessons with instructors plus an online portion involving research\, reading and answering questions (7-8 hours) that will be marked by the instructors. \n Register Now!
URL:https://trainingnetwork.ca/event/construction-project-management-burnaby-4/
LOCATION:Accent Inn\, 3777 Henning Drive\, Burnaby\, British Columbia\, V5C 6N5\, Canada
CATEGORIES:Business,Construction,Management
END:VEVENT
END:VCALENDAR