BEGIN:VCALENDAR
VERSION:2.0
PRODID:-//Construction Industry Training Network - ECPv6.15.20//NONSGML v1.0//EN
CALSCALE:GREGORIAN
METHOD:PUBLISH
X-WR-CALNAME:Construction Industry Training Network
X-ORIGINAL-URL:https://trainingnetwork.ca
X-WR-CALDESC:Events for Construction Industry Training Network
REFRESH-INTERVAL;VALUE=DURATION:PT1H
X-Robots-Tag:noindex
X-PUBLISHED-TTL:PT1H
BEGIN:VTIMEZONE
TZID:America/Vancouver
BEGIN:DAYLIGHT
TZOFFSETFROM:-0800
TZOFFSETTO:-0700
TZNAME:PDT
DTSTART:20180311T100000
END:DAYLIGHT
BEGIN:STANDARD
TZOFFSETFROM:-0700
TZOFFSETTO:-0800
TZNAME:PST
DTSTART:20181104T090000
END:STANDARD
BEGIN:DAYLIGHT
TZOFFSETFROM:-0800
TZOFFSETTO:-0700
TZNAME:PDT
DTSTART:20190310T100000
END:DAYLIGHT
BEGIN:STANDARD
TZOFFSETFROM:-0700
TZOFFSETTO:-0800
TZNAME:PST
DTSTART:20191103T090000
END:STANDARD
BEGIN:DAYLIGHT
TZOFFSETFROM:-0800
TZOFFSETTO:-0700
TZNAME:PDT
DTSTART:20200308T100000
END:DAYLIGHT
BEGIN:STANDARD
TZOFFSETFROM:-0700
TZOFFSETTO:-0800
TZNAME:PST
DTSTART:20201101T090000
END:STANDARD
END:VTIMEZONE
BEGIN:VEVENT
DTSTART;TZID=America/Vancouver:20190225T080000
DTEND;TZID=America/Vancouver:20190225T163000
DTSTAMP:20260424T051750
CREATED:20181024T192318Z
LAST-MODIFIED:20181024T192318Z
UID:8038-1551081600-1551112200@trainingnetwork.ca
SUMMARY:Bluebeam Revu: Basics - Burnaby
DESCRIPTION:This course teaches you the fundamentals of using Bluebeam’s award-winning software\, Revu. With Revu\, you’ll be able to expedite the review and approval process between project team members or clients\, quickly and easily.\n\n\nTopics to be covered:\n\nIntroduction to Revu\nOverview of the Revu Interface\, Navigation and Profiles\nThe Markup Tools\nRevu Stamps\nThe Tool Chest\nThe Markups List\nPDF Creation\nDocument Management and Setup\nIntroduction to Studio\nStudio Sessions\nStudio Projects\n\nWho should attend:\nField and office professionals in the construction\, engineering and architecture industry.\n\nInstructor:\nCurtek is a technical consulting firm specializing specifically in Bluebeam Revu and servicing the Western Canada market. We offer multiple training sessions to help our clients work effectively with their digital documents. Our instructor\, Morgan Garry\, has a Bachelor of Science degree in Construction Management from BYU-Idaho and over 10 years of commercial construction experience in project management and estimating. Morgan is also the first and only Bluebeam Certified Instructor in Canada.\n\nWhat previous participants said: \n“Helped a lot! Morgan was thorough easy to understand.” \n“Covered all the basic\, good introduction.” \n“Calm\, organized\, helpful instructor.” \n“I have been using Bluebeam for 6 years\, and was a little concerned that I would find the basic course a little repetitive. However\, after yesterday\, I walked away with so many tips and tricks to use Bluebeam more efficiently\, and even a lot of new functions that I had no idea that Bluebeam even did.” \nMPORTANT: You will need to provide your own laptop with Bluebeam Revu installed and a scroll wheel mouse.  You can download the software for a trial version for 30 days at http://www.bluebeam.com/InstRevuTRIAL\n\nIf you don’t have your own laptop with Bluebeam Revu\, we can provide a training laptop for the day ($25 rental fee). The total number of training laptops is limited and will be provided to those who reserve them first.\n\nTo reserve a training laptop\, email or call Kerry at 604-293-2339 or kerry.vital@trainingnetwork.ca\n Register Now!
URL:https://trainingnetwork.ca/event/bluebeam-revu-basics-burnaby-2/
LOCATION:Accent Inn\, 3777 Henning Drive\, Burnaby\, British Columbia\, V5C 6N5\, Canada
CATEGORIES:Business,Equipment Training,Management
END:VEVENT
BEGIN:VEVENT
DTSTART;TZID=America/Vancouver:20190225T080000
DTEND;TZID=America/Vancouver:20190226T163000
DTSTAMP:20260424T051750
CREATED:20181106T212647Z
LAST-MODIFIED:20181106T212647Z
UID:8080-1551081600-1551198600@trainingnetwork.ca
SUMMARY:Construction Law - Burnaby
DESCRIPTION:Participants will develop an understanding of contract law as it relates to construction and the various CCDC/CCA and other contracts used within the industry. Participants will also learn the other legal means to resolve construction disputes and avoid litigation. At the end of the course participants will be able to:\n\nUnderstand the basics of contract law –intention\, offer\, acceptance\, consideration\, capacity and legality\nBe familiar with various CCDC/CCA contracts -how and why they are used\nBe familiar with various legal terms used in contracts\nUnderstand the contract responsibilities of various parties\nUnderstand the bidding process and contractual obligations\nDefine back charges and how to avoid them\nAvoid construction disputes and claims from the site level\nWrite RFIs and Change Orders\nUnderstand the dispute resolution process – negotiation\, mediation\, arbitration\, and litigation\nUse the Builder’s Lien Act to obtain security\nUse the small claims process to collect debts\nUnderstand environmental law and how it impacts projects\nUnderstand safety law and it impacts construction companies\nUnderstand how specifications and drawings fit within the contractual hierarchy\nUnderstand the contractual relationship between contractor and sub-contractor\nCompile and submit proper extras and claims\n\nTopics to be covered:\n\nThe basic concepts of contract law\nCCA\, CCDC and other contracts\nLegal terms used in contracts\nBidding process and contractual obligations\nSpecifications\, drawings and the contractual hierarchy\nContractual relationships between contractor and sub-contractor\nCompiling and submitting proper extras and claims\nDefining back charges and how to avoid them\nAvoiding construction disputes and claims from the site level\nWriting RFIs and Change Orders\nThe dispute resolution process\nThe Builder’s Lien Act\nThe Small Claims process\nEnvironmental law\nSafety legislation and regulations\n\n\n\n\n\n\n\nTwo days (16 hours) of lessons with instructors plus an online portion involving research\, reading and answering questions (7-8 hours) that will be marked by the instructors. \n Register Now!
URL:https://trainingnetwork.ca/event/construction-law-burnaby-2/
LOCATION:Accent Inn\, 3777 Henning Drive\, Burnaby\, British Columbia\, V5C 6N5\, Canada
CATEGORIES:Business,Construction,Legal
END:VEVENT
END:VCALENDAR