BEGIN:VCALENDAR
VERSION:2.0
PRODID:-//Construction Industry Training Network - ECPv6.15.20//NONSGML v1.0//EN
CALSCALE:GREGORIAN
METHOD:PUBLISH
X-WR-CALNAME:Construction Industry Training Network
X-ORIGINAL-URL:https://trainingnetwork.ca
X-WR-CALDESC:Events for Construction Industry Training Network
REFRESH-INTERVAL;VALUE=DURATION:PT1H
X-Robots-Tag:noindex
X-PUBLISHED-TTL:PT1H
BEGIN:VTIMEZONE
TZID:America/Vancouver
BEGIN:DAYLIGHT
TZOFFSETFROM:-0800
TZOFFSETTO:-0700
TZNAME:PDT
DTSTART:20180311T100000
END:DAYLIGHT
BEGIN:STANDARD
TZOFFSETFROM:-0700
TZOFFSETTO:-0800
TZNAME:PST
DTSTART:20181104T090000
END:STANDARD
BEGIN:DAYLIGHT
TZOFFSETFROM:-0800
TZOFFSETTO:-0700
TZNAME:PDT
DTSTART:20190310T100000
END:DAYLIGHT
BEGIN:STANDARD
TZOFFSETFROM:-0700
TZOFFSETTO:-0800
TZNAME:PST
DTSTART:20191103T090000
END:STANDARD
BEGIN:DAYLIGHT
TZOFFSETFROM:-0800
TZOFFSETTO:-0700
TZNAME:PDT
DTSTART:20200308T100000
END:DAYLIGHT
BEGIN:STANDARD
TZOFFSETFROM:-0700
TZOFFSETTO:-0800
TZNAME:PST
DTSTART:20201101T090000
END:STANDARD
END:VTIMEZONE
BEGIN:VEVENT
DTSTART;TZID=America/Vancouver:20190319T073000
DTEND;TZID=America/Vancouver:20190319T093000
DTSTAMP:20260424T083910
CREATED:20190228T161028Z
LAST-MODIFIED:20190228T161028Z
UID:8198-1552980600-1552987800@trainingnetwork.ca
SUMMARY:2018 BC Building Code (Breakfast Session) - Burnaby
DESCRIPTION:Don Pedde\, Senior Codes Administrator with the Building and Safety Standards Branch\, will provide an overview of the BC Building Code 2018 changes and the impacts of new Part 3 and Part 9 requirements on contractors and businesses. \nChanges include new provisions for:\n• Accessibility\n• Area Calculation of Exposing Building Face\n• Asbestos\n• Energy Efficiency Standards\n• Exit Signs\n• Factory Constructed Buildings\n• Fenestration\n• Heritage Buildings\n• Mid-Rise Combustible Construction\n• Water Efficiency of Plumbing Fixtures\n• Radon Data\n• Stairs \nPresenter: Don Pedde is a Senior Codes Administrator with the Building and Safety Standards Branch.  Don has 33 years of experience in the building industry including work as a Journeyman Carpenter\, as an Architectural Technician\, and as a Chief Building Official.  He is a Minister’s Appointee to the Executive Committee of the Building Officials’ Association of BC. \n Register Now!
URL:https://trainingnetwork.ca/event/2018-bc-building-code-breakfast-session-burnaby/
LOCATION:Delta Burnaby Hotel and Conference Centre\, 4331 Dominion Street\, Burnaby\, British Columbia\, V5G 1C7\, Canada
CATEGORIES:Business,Construction,Legal
END:VEVENT
END:VCALENDAR