BEGIN:VCALENDAR
VERSION:2.0
PRODID:-//Construction Industry Training Network - ECPv6.15.20//NONSGML v1.0//EN
CALSCALE:GREGORIAN
METHOD:PUBLISH
X-WR-CALNAME:Construction Industry Training Network
X-ORIGINAL-URL:https://trainingnetwork.ca
X-WR-CALDESC:Events for Construction Industry Training Network
REFRESH-INTERVAL;VALUE=DURATION:PT1H
X-Robots-Tag:noindex
X-PUBLISHED-TTL:PT1H
BEGIN:VTIMEZONE
TZID:America/Vancouver
BEGIN:DAYLIGHT
TZOFFSETFROM:-0800
TZOFFSETTO:-0700
TZNAME:PDT
DTSTART:20180311T100000
END:DAYLIGHT
BEGIN:STANDARD
TZOFFSETFROM:-0700
TZOFFSETTO:-0800
TZNAME:PST
DTSTART:20181104T090000
END:STANDARD
BEGIN:DAYLIGHT
TZOFFSETFROM:-0800
TZOFFSETTO:-0700
TZNAME:PDT
DTSTART:20190310T100000
END:DAYLIGHT
BEGIN:STANDARD
TZOFFSETFROM:-0700
TZOFFSETTO:-0800
TZNAME:PST
DTSTART:20191103T090000
END:STANDARD
BEGIN:DAYLIGHT
TZOFFSETFROM:-0800
TZOFFSETTO:-0700
TZNAME:PDT
DTSTART:20200308T100000
END:DAYLIGHT
BEGIN:STANDARD
TZOFFSETFROM:-0700
TZOFFSETTO:-0800
TZNAME:PST
DTSTART:20201101T090000
END:STANDARD
END:VTIMEZONE
BEGIN:VEVENT
DTSTART;TZID=America/Vancouver:20190321T080000
DTEND;TZID=America/Vancouver:20190321T163000
DTSTAMP:20260424T051933
CREATED:20190304T180620Z
LAST-MODIFIED:20190304T180620Z
UID:8203-1553155200-1553185800@trainingnetwork.ca
SUMMARY:Supervisors Bootcamp: Practical Leadership Tools for Front Line Supervisors - Fort St John
DESCRIPTION:The Supervisors Bootcamp is designed specifically for front-line supervisors and managers in all industries. It is open to individuals with all levels of experience\, but is most effective for those working for companies with an already established safety management system. \nParticipants will be given a leadership ‘tool kit’ comprised of the simplest but most effective leadership concepts\, from which they can effectively build and develop their own leadership style. They will also take self-assessment questionnaires and participate in exercises based on the actual work they do and the crews they lead. \nThe ideas covered in this course will assist employers to tackle important and emerging issues facing business operations today: \n·         Greater productivity and quality outcomes \n·         Greater safety program effectiveness \n·         Greater worker retention and engagement \nParticipants will leave the session with leadership baselines established\, reference materials and course content\, and practical and personalised leadership goals for them to work towards. \nParticipants will also be introduced to ‘safety-II’ or ‘safety differently’\, and the workshop includes strategies for putting these concepts into practical use. \nWhat previous participants said: \n\n“A lot of good new tools! I help train new guys all the time and a few methods from today will help a lot.” \n“Related to every day life – not just out of the book.” \n“Knowledgeable and personable instructor.” \n“I was impressed with the instructor’s passion and knowledge.” \n“A lot of information to take back to the site.” \nInstructor: Since beginning his career over 25 years ago\, Jeff Lyth has become recognized as an expert and innovator in workplace leadership and safety. He served as Director of Corporate Health and Safety with one of Western Canada’s leading high-rise contractors for nearly a decade during which time he was a facilitator of their leadership development program. He currently works in assisting organizations and safety departments to move beyond conventional views in both leadership and construction safety\, and to break through the performance plateaus associated with those views. \n Register Now!
URL:https://trainingnetwork.ca/event/supervisors-bootcamp-practical-leadership-tools-for-front-line-supervisors-fort-st-john-2/
LOCATION:Quality Inn Northern Grand\, 9830 100th Avenue\, Fort St John\, British Columbia\, V1J 1Y5\, Canada
CATEGORIES:Business,Construction,Management
END:VEVENT
BEGIN:VEVENT
DTSTART;TZID=America/Vancouver:20190321T080000
DTEND;TZID=America/Vancouver:20190322T163000
DTSTAMP:20260424T051933
CREATED:20190305T193252Z
LAST-MODIFIED:20190305T193252Z
UID:8227-1553155200-1553272200@trainingnetwork.ca
SUMMARY:Construction Business Management - Burnaby
DESCRIPTION:Participants will learn how to improve the management and business systems of their construction company. \nAt the end of the course participants will be able to: \n• Understand the strategic planning process and how to implement it within their context \n• Understand the importance of a business plan and how to prepare one \n• Understand the participants within the construction industry – their roles\, responsibilities and limitations \n• Understand the benefits of a participatory management culture \n• Formulate a marketing plan and understand the marketing mix \n• Develop a human resource management plan \n• Understand the employment cycle/process \n• Develop an employee performance evaluation system \n• Increase staff morale and engagement \n• Understand operational planning for construction companies \n• Formulate a financial plan\, budgets\, ratios and break-even analysis \n• Understand the importance of financial internal controls \n• Develop benchmarks and key performance indicators \n• Understand bonding and insurance for construction companies \n• Use risk management tools to identify risk and how to mitigate risk \nTwo days (16 hours) of lessons with instructors plus an online portion involving research\, reading and answering questions (7-8 hours) that will be marked by the instructors. \nTo receive your CPD accredited certificate you must complete the online portion after the 2 day course. \nWhat previous participants have said: \n“Provided great insight into business planning. Provided a better understanding of financial planning and how to understand balance sheets” \n“Terrific content for start up companies” \n“Well explained. Enjoyed the group discussions and class input” \n Register Now!
URL:https://trainingnetwork.ca/event/construction-business-management-burnaby-4/
LOCATION:Accent Inn\, 3777 Henning Drive\, Burnaby\, British Columbia\, V5C 6N5\, Canada
CATEGORIES:Business,Construction,Management
END:VEVENT
END:VCALENDAR