BEGIN:VCALENDAR
VERSION:2.0
PRODID:-//Construction Industry Training Network - ECPv6.15.20//NONSGML v1.0//EN
CALSCALE:GREGORIAN
METHOD:PUBLISH
X-WR-CALNAME:Construction Industry Training Network
X-ORIGINAL-URL:https://trainingnetwork.ca
X-WR-CALDESC:Events for Construction Industry Training Network
REFRESH-INTERVAL;VALUE=DURATION:PT1H
X-Robots-Tag:noindex
X-PUBLISHED-TTL:PT1H
BEGIN:VTIMEZONE
TZID:America/Vancouver
BEGIN:DAYLIGHT
TZOFFSETFROM:-0800
TZOFFSETTO:-0700
TZNAME:PDT
DTSTART:20180311T100000
END:DAYLIGHT
BEGIN:STANDARD
TZOFFSETFROM:-0700
TZOFFSETTO:-0800
TZNAME:PST
DTSTART:20181104T090000
END:STANDARD
BEGIN:DAYLIGHT
TZOFFSETFROM:-0800
TZOFFSETTO:-0700
TZNAME:PDT
DTSTART:20190310T100000
END:DAYLIGHT
BEGIN:STANDARD
TZOFFSETFROM:-0700
TZOFFSETTO:-0800
TZNAME:PST
DTSTART:20191103T090000
END:STANDARD
BEGIN:DAYLIGHT
TZOFFSETFROM:-0800
TZOFFSETTO:-0700
TZNAME:PDT
DTSTART:20200308T100000
END:DAYLIGHT
BEGIN:STANDARD
TZOFFSETFROM:-0700
TZOFFSETTO:-0800
TZNAME:PST
DTSTART:20201101T090000
END:STANDARD
END:VTIMEZONE
BEGIN:VEVENT
DTSTART;TZID=America/Vancouver:20190409T073000
DTEND;TZID=America/Vancouver:20190409T163000
DTSTAMP:20260423T225437
CREATED:20190305T194253Z
LAST-MODIFIED:20190305T194253Z
UID:8241-1554795000-1554827400@trainingnetwork.ca
SUMMARY:Rigging Fundamentals (Fulford Certification) - Fort St John
DESCRIPTION:This Rigging Fundamentals course is designed for anyone who rig loads for lifting by cranes and other hoisting equipment. \n\nCourse objectives\n\nIdentify safe rigging practices\nConduct prior to use inspections\nUnderstand basic rigging principles\nLoad weight determination\nTurning Loads\n\nTopics covered: \n\nRigging terminology\nDetermining load weight\nLocating the load’s centre of gravity (COG)\nCommunicating with hand signals\nKnot tying\nInspecting slings and hardware\nUsing rigging working load limit charts\nApplication of common hitches\nBasic lift planning\nRigging and signaling lifts\n\n\nParticipants will receive the following Fulford materials: \n\nRigging Fundamentals Manual\nLift Planning Guide\nRigging Fundamentals Certificate of Completion wallet card (no photo) – valid for 3 years\n\n Register Now!
URL:https://trainingnetwork.ca/event/rigging-fundamentals-fulford-certification-fort-st-john/
LOCATION:Quality Inn Northern Grand\, 9830 100th Avenue\, Fort St John\, British Columbia\, V1J 1Y5\, Canada
CATEGORIES:Construction,Equipment Training,Safety
END:VEVENT
BEGIN:VEVENT
DTSTART;TZID=America/Vancouver:20190409T080000
DTEND;TZID=America/Vancouver:20190410T163000
DTSTAMP:20260423T225437
CREATED:20190305T194131Z
LAST-MODIFIED:20190305T194131Z
UID:8239-1554796800-1554913800@trainingnetwork.ca
SUMMARY:Project Planning & Cost Control - Burnaby
DESCRIPTION:The course is designed to provide owners\, managers\, estimators\, and field personnel with a general knowledge of the process of planning and controlling a project from beginning to end utilizing ways and means of monitoring\, saving and controlling costs. \nTopics covered: \n\nUnderstanding the impact and methodology of construction cost control.\nWays and means of minimizing and controlling costs on site.\nProject cost forecasting and accounting functions on site.\nProject planning and its purpose and effect on project cost control.\nHow to communicate & assist management re: cost methods and control.\nGain additional insight into the process of work and cost analysis.\nCost reporting systems – new technology in monitoring costs and reports.\nUnderstanding the effect improper field reporting has on cost control. Maintaining and managing documents\, material\, tools and equipment.\nUnderstanding the Contract process from bidding to project close-out.\nReview of 100 companies and their methods in controlling & saving costs.\n\nInstructor: Gerald Cree is a Gold-Seal certified construction management professional with over 30 years’ experience managing large-scale residential\, commercial\, industrial and environmental projects throughout Western Canada and the United States. His experience covers all aspects of construction management including ; design\, development\, estimation\, project planning\, tendering and procurement with additional expertise in civil\, structural\, electrical and mechanical disciplines. Throughout his career\, Gerald has demonstrated an ongoing commitment to professional development and has successfully achieved certification in many areas\, notably: Project Management Professional (PMP)\, Master of Project planning and Construction Law and is presently working towards his Leadership in Energy and Environmental Design (LEEDS) certification. \n Register Now!
URL:https://trainingnetwork.ca/event/project-planning-cost-control-burnaby/
LOCATION:Accent Inn\, 3777 Henning Drive\, Burnaby\, British Columbia\, V5C 6N5\, Canada
CATEGORIES:Business,Construction,Management
END:VEVENT
BEGIN:VEVENT
DTSTART;TZID=America/Vancouver:20190409T160000
DTEND;TZID=America/Vancouver:20190409T183000
DTSTAMP:20260423T225437
CREATED:20190226T204522Z
LAST-MODIFIED:20190226T204826Z
UID:8190-1554825600-1554834600@trainingnetwork.ca
SUMMARY:PST Issues for Oil and Gas Contractors (Afternoon Session) - Fort St John
DESCRIPTION:You asked\, and we listened!\nRegister now for the CITN PST presentation developed in partnership with the BC Ministry of Finance specifically for oil and gas contractors\, real property and real property contracts involved in the oil and gas industry.\nWe have two sessions to choose from\, both on different days. This is a complimentary session for members (non-members $20.00 + GST)\, but registration is required as space is limited.\n\nTo register for the morning session on April 10\, please click here. \n Register Now!
URL:https://trainingnetwork.ca/event/pst-issues-for-oil-and-gas-contractors-afternoon-session-fort-st-john/
LOCATION:Stonebridge Hotel\, 9223 100 Street\, Fort St John\, BC\, V1J 3X3\, Canada
CATEGORIES:Business,Legal
END:VEVENT
END:VCALENDAR