BEGIN:VCALENDAR
VERSION:2.0
PRODID:-//Construction Industry Training Network - ECPv6.15.20//NONSGML v1.0//EN
CALSCALE:GREGORIAN
METHOD:PUBLISH
X-ORIGINAL-URL:https://trainingnetwork.ca
X-WR-CALDESC:Events for Construction Industry Training Network
REFRESH-INTERVAL;VALUE=DURATION:PT1H
X-Robots-Tag:noindex
X-PUBLISHED-TTL:PT1H
BEGIN:VTIMEZONE
TZID:America/Vancouver
BEGIN:DAYLIGHT
TZOFFSETFROM:-0800
TZOFFSETTO:-0700
TZNAME:PDT
DTSTART:20180311T100000
END:DAYLIGHT
BEGIN:STANDARD
TZOFFSETFROM:-0700
TZOFFSETTO:-0800
TZNAME:PST
DTSTART:20181104T090000
END:STANDARD
BEGIN:DAYLIGHT
TZOFFSETFROM:-0800
TZOFFSETTO:-0700
TZNAME:PDT
DTSTART:20190310T100000
END:DAYLIGHT
BEGIN:STANDARD
TZOFFSETFROM:-0700
TZOFFSETTO:-0800
TZNAME:PST
DTSTART:20191103T090000
END:STANDARD
BEGIN:DAYLIGHT
TZOFFSETFROM:-0800
TZOFFSETTO:-0700
TZNAME:PDT
DTSTART:20200308T100000
END:DAYLIGHT
BEGIN:STANDARD
TZOFFSETFROM:-0700
TZOFFSETTO:-0800
TZNAME:PST
DTSTART:20201101T090000
END:STANDARD
END:VTIMEZONE
BEGIN:VEVENT
DTSTART;TZID=America/Vancouver:20190509T080000
DTEND;TZID=America/Vancouver:20190510T163000
DTSTAMP:20260423T121342
CREATED:20180711T175314Z
LAST-MODIFIED:20181106T211853Z
UID:7804-1557388800-1557505800@trainingnetwork.ca
SUMMARY:Supervisory and Management Skills - Kelowna
DESCRIPTION:Participants will improve their skills in leadership\, management and supervision of staff. Participants will learn skills to enhance their ability to build a collaborative team culture with their staff and on job sites. \nAt the end of the course participants will be able to: \n• Understand the differences between leadership\, management and supervision \n• Identify different leadership styles and approaches \n• Apply different leadership styles to deal with various situations \n• Knowledge of motivational theories – Mazlow\, Herzberg\, MARS \n• Ability to enhance individual and group performance and engagement \n• Understand different personality styles and how to communicate appropriately \n• Effectively manage time \n• Understanding stress and how to manage it at work \n• Knowledge of substance abuse\, recognition and prevention \n• Conduct a successful toolbox talk \n• Appropriately discipline and/or terminate staff \n• Apply various negotiating skills \n• Deal with difficult people\, conflict and confrontation \n• Use collaborative decision making skills \n• Understand a systems approach to management of construction companies \nWhat previous participants said: \n“Great Class!  Instructor was able to hold our attention for long periods of time.” \n“Excellent course layout and presentation.” \n Register Now!
URL:https://trainingnetwork.ca/event/supervisory-and-management-skills-kelowna/
LOCATION:Kelowna (TBA)\, Kelowna\, British Columbia\, Canada
CATEGORIES:Business,Construction,Management
END:VEVENT
BEGIN:VEVENT
DTSTART;TZID=America/Vancouver:20190510T083000
DTEND;TZID=America/Vancouver:20190510T123000
DTSTAMP:20260423T121342
CREATED:20181001T214635Z
LAST-MODIFIED:20181001T214635Z
UID:8018-1557477000-1557491400@trainingnetwork.ca
SUMMARY:Fall Protection - Burnaby
DESCRIPTION:This is a 4 hour course that introduces workers to Fall Protection methods. Upon completion of this course participants will be able to: \n\nExplain when Fall Protection is required\nIdentify and describe major Fall Protection methods and the key associated FP equipment\nExplain and apply the Fall Protection hierarchy\nDetermine when a Fall Protection Plan is required and describe the main components\nDevelop a Fall Protection Plan based on a given scenario\n\nImportant: Photo ID is required to receive a certificate. \n Register Now!
URL:https://trainingnetwork.ca/event/fall-protection-burnaby-15/
LOCATION:Universal Health and Safety\, 201-4199 Lougheed Hwy\, Burnaby\, British Columbia\, V5C 3Y6\, Canada
CATEGORIES:Construction,Safety
END:VEVENT
END:VCALENDAR