BEGIN:VCALENDAR
VERSION:2.0
PRODID:-//Construction Industry Training Network - ECPv6.15.20//NONSGML v1.0//EN
CALSCALE:GREGORIAN
METHOD:PUBLISH
X-ORIGINAL-URL:https://trainingnetwork.ca
X-WR-CALDESC:Events for Construction Industry Training Network
REFRESH-INTERVAL;VALUE=DURATION:PT1H
X-Robots-Tag:noindex
X-PUBLISHED-TTL:PT1H
BEGIN:VTIMEZONE
TZID:America/Vancouver
BEGIN:DAYLIGHT
TZOFFSETFROM:-0800
TZOFFSETTO:-0700
TZNAME:PDT
DTSTART:20180311T100000
END:DAYLIGHT
BEGIN:STANDARD
TZOFFSETFROM:-0700
TZOFFSETTO:-0800
TZNAME:PST
DTSTART:20181104T090000
END:STANDARD
BEGIN:DAYLIGHT
TZOFFSETFROM:-0800
TZOFFSETTO:-0700
TZNAME:PDT
DTSTART:20190310T100000
END:DAYLIGHT
BEGIN:STANDARD
TZOFFSETFROM:-0700
TZOFFSETTO:-0800
TZNAME:PST
DTSTART:20191103T090000
END:STANDARD
BEGIN:DAYLIGHT
TZOFFSETFROM:-0800
TZOFFSETTO:-0700
TZNAME:PDT
DTSTART:20200308T100000
END:DAYLIGHT
BEGIN:STANDARD
TZOFFSETFROM:-0700
TZOFFSETTO:-0800
TZNAME:PST
DTSTART:20201101T090000
END:STANDARD
END:VTIMEZONE
BEGIN:VEVENT
DTSTART;TZID=America/Vancouver:20190515T080000
DTEND;TZID=America/Vancouver:20190516T163000
DTSTAMP:20260423T135136
CREATED:20190322T182600Z
LAST-MODIFIED:20190509T193037Z
UID:8441-1557907200-1558024200@trainingnetwork.ca
SUMMARY:Electrical Estimating Course 1 (Basic) - Langley
DESCRIPTION:Are you confident in your estimating skills for today’s competitive market? Attend the Electrical Estimating Course 1 and learn how to systematically put together an accurate bid for electrical work. \nOur two-day\, hands-on course will take you right from the start of an estimate to the final bid price. Your estimates will be done in a systematic way. The forms we supply are easy to follow and will guide you step by step. Errors are easy to find. All material is listed and a labour unit is applied to each item. \nYou will finalize a tender and will add overhead and all other job costs. Adding the profit will be your final step. The labour manual will go home with you for continual use. \nCourse includes: \n\nLabour manual with CD\nTake-off and estimating forms\nScale and pencils\nLunch and refreshments\n\nCourse Agenda \nEstimating Fundamentals \n\nRole of an Estimator\nSetting up to Estimate\nMethods of Estimating\nEstimating Tools and Forms\nLabor Manual and Use\nPricing\n\n\nDetailed Takeoff \n\n\nReview Drawings and Specifications\nOrganization of Estimate\nMeasuring and Counting\nUse of Forms\nReviewing of Addendums\n\n\nPricing\, Labouring and Summarizing \n\n\nListing of Material\nPricing\, Labour Units and Extension\n\nSummarizing\n\nLabour Cost\nNon-Productive Labour\nJob Expenses\nMark-up and Profit\nJob Closing\nQuote\nSales Techniques\n\n\n\n\nLayout and Estimate for: \n\n\n110 volt Receptacle Outlets for an Office\nLighting Fixtures and Switches for an Office\nLighting and Outlets for a Plant\nDistribution and Feeders\n400 amp Service Entrance\n\nIntroduction to Computer Estimating\n\nAdvantages of computerized estimating\nSet up of job to take-off\nInputting of take-off\nTypical extension and Recap sheet\n\nParticipants need to bring a calculator.\n Register Now!
URL:https://trainingnetwork.ca/event/electrical-estimating-course-1-basic-langley/
LOCATION:Coast Langley City Hotel & Convention Centre\, 20393 Fraser Hwy\, Langley\, BC\, V3A 7N2\, Canada
CATEGORIES:Construction
END:VEVENT
BEGIN:VEVENT
DTSTART;TZID=America/Vancouver:20190516T080000
DTEND;TZID=America/Vancouver:20190517T163000
DTSTAMP:20260423T135136
CREATED:20181106T211946Z
LAST-MODIFIED:20190305T192430Z
UID:8066-1557993600-1558110600@trainingnetwork.ca
SUMMARY:Supervisory and Management Skills - Burnaby
DESCRIPTION:Participants will improve their skills in leadership\, management and supervision of staff. Participants will learn skills to enhance their ability to build a collaborative team culture with their staff and on job sites. \nAt the end of the course participants will be able to: \n• Understand the differences between leadership\, management and supervision \n• Identify different leadership styles and approaches \n• Apply different leadership styles to deal with various situations \n• Knowledge of motivational theories – Mazlow\, Herzberg\, MARS \n• Ability to enhance individual and group performance and engagement \n• Understand different personality styles and how to communicate appropriately \n• Effectively manage time \n• Understanding stress and how to manage it at work \n• Knowledge of substance abuse\, recognition and prevention \n• Conduct a successful toolbox talk \n• Appropriately discipline and/or terminate staff \n• Apply various negotiating skills \n• Deal with difficult people\, conflict and confrontation \n• Use collaborative decision making skills \n• Understand a systems approach to management of construction companies \nWhat previous participants said: \n“Great Class!  Instructor was able to hold our attention for long periods of time.” \n“Excellent course layout and presentation.” \n Register Now!
URL:https://trainingnetwork.ca/event/supervisory-and-management-skills-burnaby-2/
LOCATION:Accent Inn\, 3777 Henning Drive\, Burnaby\, British Columbia\, V5C 6N5\, Canada
CATEGORIES:Business,Construction,Human Resources,Management
END:VEVENT
END:VCALENDAR