BEGIN:VCALENDAR
VERSION:2.0
PRODID:-//Construction Industry Training Network - ECPv6.15.20//NONSGML v1.0//EN
CALSCALE:GREGORIAN
METHOD:PUBLISH
X-ORIGINAL-URL:https://trainingnetwork.ca
X-WR-CALDESC:Events for Construction Industry Training Network
REFRESH-INTERVAL;VALUE=DURATION:PT1H
X-Robots-Tag:noindex
X-PUBLISHED-TTL:PT1H
BEGIN:VTIMEZONE
TZID:America/Vancouver
BEGIN:DAYLIGHT
TZOFFSETFROM:-0800
TZOFFSETTO:-0700
TZNAME:PDT
DTSTART:20170312T100000
END:DAYLIGHT
BEGIN:STANDARD
TZOFFSETFROM:-0700
TZOFFSETTO:-0800
TZNAME:PST
DTSTART:20171105T090000
END:STANDARD
BEGIN:DAYLIGHT
TZOFFSETFROM:-0800
TZOFFSETTO:-0700
TZNAME:PDT
DTSTART:20180311T100000
END:DAYLIGHT
BEGIN:STANDARD
TZOFFSETFROM:-0700
TZOFFSETTO:-0800
TZNAME:PST
DTSTART:20181104T090000
END:STANDARD
BEGIN:DAYLIGHT
TZOFFSETFROM:-0800
TZOFFSETTO:-0700
TZNAME:PDT
DTSTART:20190310T100000
END:DAYLIGHT
BEGIN:STANDARD
TZOFFSETFROM:-0700
TZOFFSETTO:-0800
TZNAME:PST
DTSTART:20191103T090000
END:STANDARD
END:VTIMEZONE
BEGIN:VEVENT
DTSTART;TZID=America/Vancouver:20180710T080000
DTEND;TZID=America/Vancouver:20180710T163000
DTSTAMP:20260425T051451
CREATED:20171129T200839Z
LAST-MODIFIED:20180802T192732Z
UID:7237-1531209600-1531240200@trainingnetwork.ca
SUMMARY:Leading and Managing Organizational Change - Burnaby
DESCRIPTION:Do you feel that change is ever constant and that you’re struggling to keep up? Are you looking for practical tools and approaches that you can take in managing changes that occur? Do you want to successfully lead projects that involve significant changes? \nThis seminar is focused on preparing you to manage organizational change and to lead and mentor others through change. You’ll understand the impacts change has on employees\, and what you need to do manage and address any resistance. You’ll also learn practical tips and techniques on how to get your organization or client ready for upcoming changes and impacts. Through a series of hands-on workshops\, you’ll develop a deeper understanding on what is involved in successfully adapting to and implementing change\, both from a personal and professional perspective. \nIn this seminar\, you’ll: \n\nUnderstand the impact change and transitions have on you and your employees\nLearn how to adapt to and be resilient to change\, whether the change is from a people\, process\, or technology transformation\nDevelop approaches to managing and leading change\nUse pragmatic tools to help you with anticipating and addressing resistance to change\, engaging with stakeholders\, and facilitating change\n\nInstructor: Eric Tung is Business Communications Instructor at SFU’s Beedie School of Business\, and an English Instructor at UBC’s Extended Learning\, where he teaches business and technical writing courses. Eric also designs and delivers customized workshops to engineering\, construction\, and consulting firms. \nIn addition to teaching and coaching\, Eric is a business transformation and change management consultant\, where he advises firms on large-scale organizational-wide changes. Eric’s clients range from smaller consulting firms to larger organizations such as the City of Vancouver\, District of North Vancouver\, Metro Vancouver\, BC Hydro\, TELUS\, BC Pension Corporation\, BC Safety Authority\, and Marshall Aerospace and Defence Group. \n\n Register Now!
URL:https://trainingnetwork.ca/event/leading-and-managing-organizational-change-burnaby-3/
LOCATION:Accent Inn\, 3777 Henning Drive\, Burnaby\, British Columbia\, V5C 6N5\, Canada
CATEGORIES:Business,Management
END:VEVENT
BEGIN:VEVENT
DTSTART;TZID=America/Vancouver:20180711T080000
DTEND;TZID=America/Vancouver:20180711T163000
DTSTAMP:20260425T051451
CREATED:20180316T153141Z
LAST-MODIFIED:20180523T160230Z
UID:7541-1531296000-1531326600@trainingnetwork.ca
SUMMARY:Supervisors Bootcamp - Practical Leadership Tools for Front Line Supervisors - Burnaby
DESCRIPTION:The Supervisors Bootcamp is designed specifically for front-line supervisors and managers in all industries. It is open to individuals with all levels of experience\, but is most effective for those working for companies with an already established safety management system. \nParticipants will be given a leadership ‘tool kit’ comprised of the simplest but most effective leadership concepts\, from which they can effectively build and develop their own leadership style. They will also take self-assessment questionnaires and participate in exercises based on the actual work they do and the crews they lead. \nThe ideas covered in this course will assist employers to tackle important and emerging issues facing business operations today: \n·         Greater productivity and quality outcomes \n·         Greater safety program effectiveness \n·         Greater worker retention and engagement \nParticipants will leave the session with leadership baselines established\, reference materials and course content\, and practical and personalised leadership goals for them to work towards. \nParticipants will also be introduced to ‘safety-II’ or ‘safety differently’\, and the workshop includes strategies for putting these concepts into practical use. \nWhat previous participants said: \n\n“A lot of good new tools! I help train new guys all the time and a few methods from today will help a lot.” \n“Related to every day life – not just out of the book.” \n“Knowledgeable and personable instructor.” \n“I was impressed with the instructor’s passion and knowledge.” \n“A lot of information to take back to the site.” \nInstructor: Since beginning his career over 25 years ago\, Jeff Lyth has become recognized as an expert and innovator in workplace leadership and safety. He served as Director of Corporate Health and Safety with one of Western Canada’s leading high-rise contractors for nearly a decade during which time he was a facilitator of their leadership development program. He currently works in assisting organizations and safety departments to move beyond conventional views in both leadership and construction safety\, and to break through the performance plateaus associated with those views. \n Register Now!
URL:https://trainingnetwork.ca/event/supervisors-bootcamp-practical-leadership-tools-for-front-line-supervisors-2/
LOCATION:Accent Inn\, 3777 Henning Drive\, Burnaby\, British Columbia\, V5C 6N5\, Canada
CATEGORIES:Business,Construction,Management
END:VEVENT
BEGIN:VEVENT
DTSTART;TZID=America/Vancouver:20180712T083000
DTEND;TZID=America/Vancouver:20180712T163000
DTSTAMP:20260425T051451
CREATED:20180108T163736Z
LAST-MODIFIED:20180115T201402Z
UID:7332-1531384200-1531413000@trainingnetwork.ca
SUMMARY:Occupational First Aid Level 1 - Burnaby
DESCRIPTION:Occupational First Aid (OFA) Level 1 is a one-day course designed to cover all medical techniques considered to be within the responsibility of the Occupational First Aid Level 1 Attendant as required by WorkSafeBC. \nIn order to be successful\, participants must demonstrate practical skill competency and achieve 70% on a multiple choice exam. On successful completion of the course\, participants receive a 3-year certification. \nImportant: Photo ID is required to receive a certificate. \n Register Now!
URL:https://trainingnetwork.ca/event/occupational-first-aid-level-1-11/
LOCATION:TraumaTech\, 110-2250 Boundary Road\, Burnaby\, British Columbia\, V5M 3Z3\, Canada
CATEGORIES:Safety
END:VEVENT
BEGIN:VEVENT
DTSTART;TZID=America/Vancouver:20180717T080000
DTEND;TZID=America/Vancouver:20180717T163000
DTSTAMP:20260425T051451
CREATED:20180403T183005Z
LAST-MODIFIED:20180403T183005Z
UID:7580-1531814400-1531845000@trainingnetwork.ca
SUMMARY:Effective Management Skills - Burnaby
DESCRIPTION:Everyone agrees that the most important asset of any organization is the human asset.  Thus\, the all important question becomes – How much untapped potential\, energy\, commitment and creativity currently exists within your organization\, team or department?  What would it mean to your culture and bottom-line if you could learn to unleash just 10% more of the latent human potential? \n\nThis course is for all managers\, supervisors\, team leaders or anyone who is responsible for achieving results through people and who want to bring the best out in people. \nParticipants will deepen their understanding of motivation\, engagement\, delegation / empowerment and practical feedback skills in this interactive (NO role plays)\, high energy and thought-provoking seminar. \nParticipants will learn proven\, powerful and practical strategies and techniques that will last a life-time and can be applied the next day. \nModule ONE – Creating a Culture of Engagement & Teamwork \n\n\n\nUnderstanding group dynamics and how to develop team synergy\nThe 11 characteristics of high performance teams (assessment tool)\nTeam meeting communications (assessment tool)\nDeveloping clear performance expectations for the team\nThe four core elements of a high performance team\nThe most common team pitfalls and how to avoid them\nThe seven roles of a highly effective team leader\n\nModule TWO – Delegation & Empowerment \n\nThe principles of effective delegation\nWhat empowerment really means and why it is so important\nThe complete 7 step delegation process\nThe risks and restrictions of empowering people\nHow to determine how much freedom and latitude to give an employee in terms of   “how” to do a task\nThe vital importance of developing clear “outcome-based” performance expectations whenever possible\nA tool to determine what performance feedback is appropriate to give each employee\nHow to teach and facilitate a process for employee problem solving to prevent reverse delegation\nThe essential difference between accountability and responsibility\n\nModule THREE – Core Communication Skills \n\nHow to create constructive coaching conversations (effective one-on-one communication)\nHow to listen so that people feel understood\nHow put  forth ones opinion or idea in manner most likely to gain acceptance and buy-in\nHow to say no to some without rupturing the relationship\nHow disagree someone without being disagreeable\nHow to confront someone who’s behavior is problematic to you in a manner that minimizes defensiveness and best produces desired behavior change\n\nModule FOUR – Coaching & Feedback Skills \n\nHow to ensure what you say “sticks” with people delivering your message in a manner that optimizes clarity of understanding\nThe essential difference between influence and persuasion\nHow to plan and prepare for delivering difficult Re-directive feedback\nHow to deliver Re-directive feedback in a manner that no one gets hurt\nThe four steps and four levels of Re-directive feedback\nHow to deliver Re-enforcing or positive feedback in a manner that makes it meaningful\n\n\nInstructor: Greg Campeau has delivered over 2400 presentations and workshops throughout North America providing strategies and solutions that support both personal and organizational success. He has established a client list that includes organizations like Finning\, Lafarge\, NHL Coaches Association\, BC Hydro\, Rogers Wireless\, APEG BC\, SNC Lavalin\, Klohn Crippen Berger and many more. \n\n Register Now!
URL:https://trainingnetwork.ca/event/effective-management-skills-burnaby-2/
LOCATION:Accent Inn\, 3777 Henning Drive\, Burnaby\, British Columbia\, V5C 6N5\, Canada
CATEGORIES:Business,Management
END:VEVENT
BEGIN:VEVENT
DTSTART;TZID=America/Vancouver:20180719T073000
DTEND;TZID=America/Vancouver:20180719T163000
DTSTAMP:20260425T051451
CREATED:20180419T174134Z
LAST-MODIFIED:20180419T174134Z
UID:7617-1531985400-1532017800@trainingnetwork.ca
SUMMARY:Responsibilities of Joint Health & Safety Committees - Burnaby
DESCRIPTION:On April 3\, 2017\, changes to the Occupational Health and Safety Regulation regarding joint health and safety committees and worker health and safety representatives took effect. All new joint committee members selected on or after April 3\, 2017 must receive eight hours of training. This course will help participants fulfill the new requirement. \n\nParticipants will: \n\nKnow how to use the OHS Regulation and WC Act to access health & safety requirements;\nExplain the roles and functions of the Joint Committee and the Worker Representatives;\nLearn how to perform an incident investigation;\nLearn how to perform a formal site inspection; and\nDevelop a foundation in knowledge to:\n\nPromote workplace health and safety\nAssist in ensuring the health and safety program elements are implemented;\nConduct and participate in Joint Committee Meetings; and\nWork cooperatively to address workers’ health and safety concerns.\n\n\n\nTopics covered: \n\nUse of WorkSafe OHS Regulation;\nJoint Health and Safety committee and workers representatives;\nOHS Program;\nSafety Inspections;\nIncident investigations;\nRefusal of unsafe work;\nHow to work as a committee;\nDifferent types of recommendations; and\nHazard management.\n\n Register Now!
URL:https://trainingnetwork.ca/event/responsibilities-of-joint-health-safety-committees-burnaby/
LOCATION:Accent Inn\, 3777 Henning Drive\, Burnaby\, British Columbia\, V5C 6N5\, Canada
CATEGORIES:Business,Construction,Legal,Safety
END:VEVENT
BEGIN:VEVENT
DTSTART;TZID=America/Vancouver:20180719T080000
DTEND;TZID=America/Vancouver:20180720T163000
DTSTAMP:20260425T051451
CREATED:20180209T171953Z
LAST-MODIFIED:20180209T171953Z
UID:7442-1531987200-1532104200@trainingnetwork.ca
SUMMARY:Construction Estimating - Burnaby
DESCRIPTION:Participants will learn skills and knowledge to estimate construction projects and prepare a successful bid. The course is designed for construction estimators and those with experience in construction that desire to be estimators or improve their knowledge of estimating. At the end of the course participants will be able to:\n\n\n\n\nAnalyze projects and decide on which ones to bid\nUnderstand risk analysis and how to price this into a bid\nDo competitor analysis and understand how this impacts the bid\nDo client risk analysis and how to price this into bids\nRecord material and other prices and maintain contact lists\nFormulate a bid strategy\nUnderstand how to prepare an estimate and the estimating process\nUse Construction Division Codes\nUnderstand how to present a bid\nBe familiar with how to use the bid depository\nUnderstand the requirements for bonding and insurance\nUnderstand the post-bidding process\nWork with project managers to pass on knowledge of the bid\n\nTopics to be covered:\n\nProject analysis\nRisk analysis\nCompetitor analysis\nClient risk analysis\nRecord keeping\nBid strategies\nPreparing estimates and the estimating process\nConstruction Division Codes\nPresenting bids\nBid depository\nBonding and insurance\nPost-bidding process\n\nTwo days (16 hours) of lessons with instructors plus an online portion involving research\, reading and answering questions (7-8 hours) that will be marked by the instructors. \n\n\n Register Now!
URL:https://trainingnetwork.ca/event/construction-estimating-burnaby/
LOCATION:Burnaby (TBA)\, Burnaby\, BC\, Canada
CATEGORIES:Business,Construction
END:VEVENT
BEGIN:VEVENT
DTSTART;TZID=America/Vancouver:20180720T083000
DTEND;TZID=America/Vancouver:20180720T123000
DTSTAMP:20260425T051451
CREATED:20171204T193955Z
LAST-MODIFIED:20171204T193955Z
UID:7265-1532075400-1532089800@trainingnetwork.ca
SUMMARY:Fall Protection - Burnaby
DESCRIPTION:This is a 4 hour course that introduces workers to Fall Protection methods. Upon completion of this course participants will be able to: \n\nExplain when Fall Protection is required\nIdentify and describe major Fall Protection methods and the key associated FP equipment\nExplain and apply the Fall Protection hierarchy\nDetermine when a Fall Protection Plan is required and describe the main components\nDevelop a Fall Protection Plan based on a given scenario\n\nImportant: Photo ID is required to receive a certificate. \n Register Now!
URL:https://trainingnetwork.ca/event/fall-protection-burnaby-7/
LOCATION:TraumaTech\, 110-2250 Boundary Road\, Burnaby\, British Columbia\, V5M 3Z3\, Canada
CATEGORIES:Safety
END:VEVENT
BEGIN:VEVENT
DTSTART;TZID=America/Vancouver:20180724T080000
DTEND;TZID=America/Vancouver:20180724T120000
DTSTAMP:20260425T051451
CREATED:20180416T160202Z
LAST-MODIFIED:20180416T160813Z
UID:7592-1532419200-1532433600@trainingnetwork.ca
SUMMARY:Emotional Intelligence (EQ) – The Myths & the Mastery - Burnaby
DESCRIPTION:The research is crystal clear – regardless of the type of work\, EQ is the cornerstone of superior performance.  When star performers were analyzed the one consistent common denominator was they had healthy EQ!\n\nThe purpose of this course is to demystify EQ\, help people assess their current level of EQ and most importantly provide proven and practical strategies on how to develop ones EQ.\n\nThis workshop is designed for all employees and has proven to be an exceptionally powerful and practical learning experience that will benefit participants in both ones professional and personal lives:\n\nBuild better relationships\nLearn to stay calm and deal with stress more effectively\nDeal with difficult people and negative energy\nAchieve greater happiness\n\nContent Overview\n\nWhat EQ really means in practical\, everyday\, real world terms\nWhy EQ is a far more important success factor than IQ\nThe EQ – Happiness Connection\nHow to identity your current level of EQ\nThe predictable attitudes and behaviors of low EQ people\nFour sure-fire strategies on how to develop truly healthy EQ\nHow to deal with unreasonable people with low EQ\nHow to achieve the delicate balance of intellect and emotion and make “common sense decisions\nHow EQ impacts your ability to build and sustain productive relationships\nHow to assert yourself to ensure you get your needs met without appearing like a bully\nHow to stay positive around negative people\n\nInstructor: Greg Campeau has delivered over 2400 presentations and workshops throughout North America providing strategies and solutions that support both personal and organizational success. He has established a client list that includes organizations like Finning\, Lafarge\, NHL Coaches Association\, BC Hydro\, Rogers Wireless\, APEG BC\, SNC Lavalin\, Klohn Crippen Berger and many more.\n Register Now!
URL:https://trainingnetwork.ca/event/emotional-intelligence-eq-the-myths-the-mastery/
LOCATION:Accent Inn\, 3777 Henning Drive\, Burnaby\, British Columbia\, V5C 6N5\, Canada
CATEGORIES:Business
END:VEVENT
BEGIN:VEVENT
DTSTART;TZID=America/Vancouver:20180727T080000
DTEND;TZID=America/Vancouver:20180727T163000
DTSTAMP:20260425T051451
CREATED:20180209T172138Z
LAST-MODIFIED:20180209T172138Z
UID:7446-1532678400-1532709000@trainingnetwork.ca
SUMMARY:Introduction to Blueprint Reading - Burnaby
DESCRIPTION:Participants will learn how to read a set of construction blueprints and specifications. Using both residential and commercial samples of blueprints\, participants will gain experience and practical knowledge for their day-to-day work in construction companies. This course is ideal for those who have little or no background in blueprint reading. At the end of the course participants will be able to:\n\nHave an elementary knowledge of blueprint reading as it relates to building construction projects\nUnderstand in general terms the design process and the role of design professionals\nUnderstand how Building Codes and Bylaws impact blueprints\nUnderstand specifications and the contractual hierarchy\nBe able to find trade information using blueprints\nBe able to answer basic construction questions related to the layout and installation of materials\nBe able to identify elementary problems or short comings of the blueprints you are using\nBe familiar with architectural\, civil\, electrical and mechanical drawings\, and how they fit together\nUnderstand and be able to use architectural & engineering scales\nUnderstand how to convert engineering dimensions to architectural\nKnow what a floor plan\, section and elevation are\nUnderstand symbols\, notation\, abbreviations and material schedules\nBe able to work with the drawings to obtain basic information on dimension\, finishes\, details\, area calculations\, and the ability to do simple material take offs\nBe familiar with both commercial and residential blueprints\n\nTopics to be covered:\n\nBlueprint reading basics\nDesign process and the role of design professionals\nBuilding Codes\, bylaws and building permits\nFind trade information using blueprints\nLayout basics\nArchitectural\, civil\, electrical and mechanical drawings\, and how they fit together\nArchitectural & engineering scales\nFloor plans\, sections and elevations\nSymbols\, notation\, abbreviations and material schedules\nDimension\, finishes\, details\, area calculations\, and material take offs\nUnderstanding specifications\nCommercial and residential blueprints\n\n Register Now!
URL:https://trainingnetwork.ca/event/introduction-to-blueprint-reading-burnaby-2/
LOCATION:Burnaby (TBA)\, Burnaby\, BC\, Canada
CATEGORIES:Business,Construction,Equipment Training
END:VEVENT
END:VCALENDAR